BEGIN:VCALENDAR
VERSION:2.0
PRODID:-//Robotnícky Dom - ECPv6.0.13.1//NONSGML v1.0//EN
CALSCALE:GREGORIAN
METHOD:PUBLISH
X-ORIGINAL-URL:https://www.robotnickydom.sk
X-WR-CALDESC:Events for Robotnícky Dom
REFRESH-INTERVAL;VALUE=DURATION:PT1H
X-Robots-Tag:noindex
X-PUBLISHED-TTL:PT1H
BEGIN:VTIMEZONE
TZID:Europe/Bratislava
BEGIN:DAYLIGHT
TZOFFSETFROM:+0100
TZOFFSETTO:+0200
TZNAME:CEST
DTSTART:20260329T010000
END:DAYLIGHT
BEGIN:STANDARD
TZOFFSETFROM:+0200
TZOFFSETTO:+0100
TZNAME:CET
DTSTART:20261025T010000
END:STANDARD
END:VTIMEZONE
BEGIN:VEVENT
DTSTART;TZID=Europe/Bratislava:20260424T190000
DTEND;TZID=Europe/Bratislava:20260425T190000
DTSTAMP:20260425T172718
CREATED:20260303T125817Z
LAST-MODIFIED:20260330T130435Z
UID:3485-1777057200-1777143600@www.robotnickydom.sk
SUMMARY:30. UNITED EUROPE JAZZ FESTIVAL
DESCRIPTION:🎺 Oslávte tri dekády jazzu v našom meste 🎺 \n\n\n\nPozývame vás na jubilejný 30. United Europe Jazz Festival\, ktorý nie je len sériou koncertov\, ale aj miestom na stretávanie\, inšpiráciu a kultúrny dialóg. Vystúpia na ňom výnimoční slovenskí aj zahraniční hudobníci\, ktorí prinesú to najlepšie z jazzovej scény.  \n\n\n\nFestival sa tentokrát výraznejšie  ponesie na vlnách swingu\, ktorý nebol iba módnou vlnou jazzu\, ale skutočným životným štýlom\, revoltou a rebéliou. \n\n\n\nJeho elegancia\, vášeň a muzikalita sú však rovnako platné aj v dnešnej dobe. \n\n\n\n \n\n\n\n\nScott Hamilton \n\n\n\nLegendárny americký tenor saxofonista patrí k najvýraznejším predstaviteľom tradičného jazzu a swingu na súčasnej scéne. Jeho štýl\, charakteristický plným tónom a melodickou improvizáciou\, nadväzuje na odkaz klasikov tohto nástroja. \n\n\n\nVSTUPENKY \n\n\n\n\n \n\n\n\n\nOndřej Havelka a jeho Melody Makers \n\n\n\nNajkrajšie české piesne z nesmrteľných filmových komédií Prvej  republiky. Ako aj na sladké a horúce kúsky spoza Atlantiku. V hudobnom  uragáne\, v ktorom bude svišťať Swing! Iba Swing! Ten senzačný Swing! \n\n\n\nVYPREDANÉ \n\n\n\n\n \n\n\n\n\nUnited Europe Jazz Festival \n\n\n\nsa koná v Banskej Bystrici už od roku 1996 a v čase svojho vzniku bol jediným dixielandovým festivalom na Slovensku. V roku 2002 mestá Banská Bystrica\, Hradec Králové (ČR)\, Zakopane (PL) a Salgótarján (HU) spojili svoje jazzové festivaly a vytvorili spoločný projekt s názvom Stredoeurópsky jazzový most.  \n\n\n\nZADARMO
URL:https://www.robotnickydom.sk/podujatia/30-united-europe-jazz-festival/
ATTACH;FMTTYPE=image/jpeg:https://www.robotnickydom.sk/wp-content/uploads/2026/03/FB_1200x63fffd0px.jpg
END:VEVENT
BEGIN:VEVENT
DTSTART;TZID=Europe/Bratislava:20260430T160000
DTEND;TZID=Europe/Bratislava:20260430T173000
DTSTAMP:20260425T172718
CREATED:20260414T080802Z
LAST-MODIFIED:20260414T080803Z
UID:3553-1777564800-1777570200@www.robotnickydom.sk
SUMMARY:STAVANIE MÁJA
DESCRIPTION:Stavanie májov patrí k našim najkrajším tradíciám – je to oslava víťazstva jari nad zimou a pripomienka tvorivej sily\, ktorú v sebe nesie folklórne dedičstvo našich predkov. \n\n\n\nHoci kedysi stavali mládenci vysoké smreky a jedle pod okná svojich vyvolených\, dnes sa tento zvyk sústreďuje aj do srdca mesta. Podujatie sa uskutoční 30. 4. 2026 o 16:00 na Námestí SNP. \n\n\n\nO to\, aby na našom námestí stál ten najkrajší máj a o výbornú náladu sa postarajú folkloristi z FS Urpín a DFS Radosť z Banskej Bystrice. Máj ozdobený pestrofarebnými stuhami zostane dominantou nášho námestia počas celého mesiaca.
URL:https://www.robotnickydom.sk/podujatia/stavanie-maja-3/
LOCATION:Námestie SNP\, Námestie SNP\, Banská Bystrica\, 97401\, Slovenská republika
ATTACH;FMTTYPE=image/jpeg:https://www.robotnickydom.sk/wp-content/uploads/2026/04/Gemini_Generated_Image_miunrbmiunrbmiun.jpg
END:VEVENT
END:VCALENDAR