BEGIN:VCALENDAR
VERSION:2.0
PRODID:-//Robotnícky Dom - ECPv6.0.13.1//NONSGML v1.0//EN
CALSCALE:GREGORIAN
METHOD:PUBLISH
X-ORIGINAL-URL:https://www.robotnickydom.sk
X-WR-CALDESC:Events for Robotnícky Dom
REFRESH-INTERVAL;VALUE=DURATION:PT1H
X-Robots-Tag:noindex
X-PUBLISHED-TTL:PT1H
BEGIN:VTIMEZONE
TZID:Europe/Bratislava
BEGIN:DAYLIGHT
TZOFFSETFROM:+0100
TZOFFSETTO:+0200
TZNAME:CEST
DTSTART:20250330T010000
END:DAYLIGHT
BEGIN:STANDARD
TZOFFSETFROM:+0200
TZOFFSETTO:+0100
TZNAME:CET
DTSTART:20251026T010000
END:STANDARD
BEGIN:DAYLIGHT
TZOFFSETFROM:+0100
TZOFFSETTO:+0200
TZNAME:CEST
DTSTART:20260329T010000
END:DAYLIGHT
BEGIN:STANDARD
TZOFFSETFROM:+0200
TZOFFSETTO:+0100
TZNAME:CET
DTSTART:20261025T010000
END:STANDARD
END:VTIMEZONE
BEGIN:VEVENT
DTSTART;TZID=Europe/Bratislava:20251104T173000
DTEND;TZID=Europe/Bratislava:20251104T200000
DTSTAMP:20260426T002342
CREATED:20251028T110852Z
LAST-MODIFIED:20251028T121408Z
UID:3181-1762277400-1762286400@www.robotnickydom.sk
SUMMARY:SLOVOMfest
DESCRIPTION:Mesto Banská Bystrica a Generácia Nula vás pozývajú na Jesenný SLOVOMfest\, multižánrové hudobno-slovné podujatie s literatúrou\, hudbou\, výtvarným umením a rozhovormi o slove. Pripravený je pestrý program so zaujímavými umelcami. Vstup na podujatie je voľný.
URL:https://www.robotnickydom.sk/podujatia/slovomfest-2/
LOCATION:Robotnícky dom\, Robotnícka 3\, Banská Bystrica\, 97401\, Slovenská republika
ATTACH;FMTTYPE=image/jpeg:https://www.robotnickydom.sk/wp-content/uploads/2025/10/600x600-jesenny-slovomfest-2025.jpg
END:VEVENT
BEGIN:VEVENT
DTSTART;TZID=Europe/Bratislava:20251105T190000
DTEND;TZID=Europe/Bratislava:20251105T210000
DTSTAMP:20260426T002342
CREATED:20251029T093216Z
LAST-MODIFIED:20251031T073607Z
UID:3194-1762369200-1762376400@www.robotnickydom.sk
SUMMARY:SHERLOCK HOLMES A ZÁHADA RODU BASKERVILLE
DESCRIPTION:Mestské divadlo ACTORES Rožňava \n\n\n\nna motívy diela Sira Arthura Conana Doyla„DESIVO ŠTEKAJÚCA KRIMINÁLNA KOMÉDIA“ \n\n\n\nPes Baskervillský je Holmesov najznámejší a najzáhadnejší prípad. Autor románu Sir Arthur Conan Doyle postupne vykresľuje desivú atmosféru slatín a oboznamuje nás s legendou rodu Baskerville\, ktorý je prenasledovaný pekelným psom. Naši vyšetrovatelia sa snažia odhaliť klamstvá a uniknúť tak zavádzajúcim sieťam stôp. Hra prevlekov a nasadzovania si masiek naznačuje\, že i „desivo – štekajúce“ môže byť komické. A predsa! Kto je vrah? \n\n\n\ndĺžka predstavenia: 90 minút bez prestávkyréžia: Tatiana Masníkováúčinkujú: Róbert Kobezda\, Lucia Hrašková\, Atila Bocsászki ml
URL:https://www.robotnickydom.sk/podujatia/sherlock-holmes-a-zahada-rodu-baskerville-2/
LOCATION:Robotnícky dom\, Robotnícka 3\, Banská Bystrica\, 97401\, Slovenská republika
ATTACH;FMTTYPE=image/jpeg:https://www.robotnickydom.sk/wp-content/uploads/2025/10/sherlock_BB-400x400-1.jpg
END:VEVENT
BEGIN:VEVENT
DTSTART;TZID=Europe/Bratislava:20251107T080000
DTEND;TZID=Europe/Bratislava:20251107T170000
DTSTAMP:20260426T002342
CREATED:20250908T080441Z
LAST-MODIFIED:20250925T124739Z
UID:3098-1762502400-1762534800@www.robotnickydom.sk
SUMMARY:LUKÁŠ ADAMEC - VŠADE DOMA TOUR 
DESCRIPTION:Lukáš Adamec je popredný slovenský spevák a skladateľ\, známy svojou jedinečnou schopnosťou spojiť prvky popu a rocku v originálnom energickom prevedení. Počas svojej kariéry získal množstvo fanušíkov na Slovensku a v Česku\, čo dokazujú jeho úspechy v rádiových éteroch a na koncertoch. \n\n\n\nJeho hity majú na youtube viac než 22 miliónov zhladnutí a na svojich jarných koncertoch vám nimi určite pošle do žíl obrovskú dávku energie. \n\n\n\nHorúca Láska\, Tancuj Mi\, Najviac – na tie všetky a mnohé ďalšie sa môžete tešiť.
URL:https://www.robotnickydom.sk/podujatia/lukas-adamec-vsade-doma-tour/
LOCATION:Robotnícky dom\, Robotnícka 3\, Banská Bystrica\, 97401\, Slovenská republika
ATTACH;FMTTYPE=image/jpeg:https://www.robotnickydom.sk/wp-content/uploads/2025/09/600x600-adamec-2025.jpg
END:VEVENT
BEGIN:VEVENT
DTSTART;TZID=Europe/Bratislava:20251113T183000
DTEND;TZID=Europe/Bratislava:20251113T220000
DTSTAMP:20260426T002342
CREATED:20251010T072423Z
LAST-MODIFIED:20251010T072459Z
UID:3140-1763058600-1763071200@www.robotnickydom.sk
SUMMARY:MICHAL ČERVIENKA A HOSTIA
DESCRIPTION:Srdečne pozývame na v poradí už 15. benefičný koncert Michala Červienku\, venovaný Základnej škole pri Detskej fakultnej nemocnici s poliklinikou v Banskej Bystrici. \n\n\n\nPríďte si vychutnať „Akordeónovú vášeň“\, na ktorej odznejú strhujúce diela od svetových skladateľov ako Piazzolla\, Harvan a Galliano. Okrem Michala Červienku a jeho akordeónu sa môžete tešiť aj na komorný orchester\, ktorý bude dirigovať Adrián Harvan. \n\n\n\nKoncert sa koná vo štvrtok 13. novembra 2025 o 18:30 hod. v Robotníckom dome. Podujatie prebieha pod záštitou paraolympionika Jána Riapoša. \n\n\n\n„Myslím si\, že v dnešnej dobe je veľmi potrebné pomáhať ľuďom\, konať dobro a šíriť pozitívne myšlienky. Je to neopísateľný pocit\, vedieť\, že ste pomohli niekomu\, kto to potrebuje. Ďakujem všetkým\, ktorí sa prídu pozrieť na môj 15. Benefičný Koncert. Urobíme spoločne všetko preto\, aby to bol pre divákov nezabudnuteľný zážitok.“ Michal Červienka.  \n\n\n\nVstupenky sú k dispozícii v Turistickom informačnom centre na Námestí SNP 1 v Banskej Bystrici.
URL:https://www.robotnickydom.sk/podujatia/michal-cervienka-a-hostia/
LOCATION:Robotnícky dom\, Robotnícka 3\, Banská Bystrica\, 97401\, Slovenská republika
ATTACH;FMTTYPE=image/jpeg:https://www.robotnickydom.sk/wp-content/uploads/2025/10/600x600-cervienka-2025.jpg
END:VEVENT
BEGIN:VEVENT
DTSTART;TZID=Europe/Bratislava:20251114T190000
DTEND;TZID=Europe/Bratislava:20251114T220000
DTSTAMP:20260426T002342
CREATED:20251010T100046Z
LAST-MODIFIED:20251010T100050Z
UID:3156-1763146800-1763157600@www.robotnickydom.sk
SUMMARY:JESENNÁ DIVENICA MALALATA & BUCHAJTRAMKA
DESCRIPTION:Program:19:00-19:30 Warm-up19:30-21:00 koncert kapely Buchajtramka21:00-22:30 MALALATA23:00 After party U Francúza – Dj Female selector
URL:https://www.robotnickydom.sk/podujatia/jesenna-divenica-malalata-buchajtramka/
LOCATION:Robotnícky dom\, Robotnícka 3\, Banská Bystrica\, 97401\, Slovenská republika
ATTACH;FMTTYPE=image/jpeg:https://www.robotnickydom.sk/wp-content/uploads/2025/10/1080x1080.jpg
END:VEVENT
BEGIN:VEVENT
DTSTART;TZID=Europe/Bratislava:20251115T190000
DTEND;TZID=Europe/Bratislava:20251115T210000
DTSTAMP:20260426T002342
CREATED:20251010T072852Z
LAST-MODIFIED:20251010T072857Z
UID:3146-1763233200-1763240400@www.robotnickydom.sk
SUMMARY:PRAVDA
DESCRIPTION:Michel je úspešný\, šarmantný a sexi. A samozrejme\, vždy o krok pred ostatnými.  \n\n\n\nTo\, že už pol roka podvádza svoju manželku so ženou svojho najlepšieho priateľa\, považuje za úplne normálnu a prirodzenú vec. \n\n\n\nRemeslo poloprávd\, milosrdných lží a “zahmlievania” na všetky strany\, ovláda priam majstrovsky. Je to totiž jeho povinnosť. Nemôže predsa pravdou ubližovať ľuďom\, na ktorých mu záleží. \n\n\n\n„Keby si ľudia jedného dňa prestali klamať\, nezostal by na svete ani jediný pár pokope. Totálna globálna katastrofa. Znamenalo by to vlastne zánik našej civilizácie.“ \n\n\n\nTo sú slová Michela\, hlavného predstaviteľa brilantnej komédie Floriana Zellera\, v podaní Divadla 13.Opona. \n\n\n\nČi už s jeho slovami súhlasíte\, alebo nie\, musíte uznať\, že niečo na tom bude… \n\n\n\nObzvlášť potom\, keď v takejto “životnej filozofii” nezostáva náš hrdina osamotený. Nič totiž nie je tak\, ako sa na prvý pohľad zdá.  \n\n\n\nDva manželské páry\, nevera a všade samá “pravda“.  \n\n\n\nLož je hriechom len vtedy\, keď plodí zlo. Keď koná dobro\, je veľkou cnosťou.  Buďte teda cnostnejší než kedykoľvek predtým. Klamte ako diabli. Nie hanblivo\, nie len výnimočne\, ale naopak statočne a vždy! Klamte priatelia\, ja vám to príležitostne vrátim. Voltaire \n\n\n\nPredstavenie trvá 75min (bez prestávky) \n\n\n\nObsadenie:  \n\n\n\nMICHEL – Marek Majeský \n\n\n\nPAUL – Peter Sklár / Viktor Vincze st. \n\n\n\nLAURENCE – Soňa Norisová / Kristína Turjanová \n\n\n\nALICE – Helena Krajčiová / Martina Bučková \n\n\n\n*Produkcia si vyhradzuje právo na zmenu obsadenia \n\n\n\nZľavy: Bez nároku na zľavy15+ (do 15r. v spirevode zákonného zástupcu)Každý účastník podujatia musí mať zakúpenú platnú vstupenku bez ohľadu na vek
URL:https://www.robotnickydom.sk/podujatia/pravda-3/
LOCATION:Robotnícky dom\, Robotnícka 3\, Banská Bystrica\, 97401\, Slovenská republika
ATTACH;FMTTYPE=image/webp:https://www.robotnickydom.sk/wp-content/uploads/2025/10/orig_PRAVDA_21_22_23_2023116132517.webp
END:VEVENT
BEGIN:VEVENT
DTSTART;TZID=Europe/Bratislava:20251116T190000
DTEND;TZID=Europe/Bratislava:20251116T210000
DTSTAMP:20260426T002342
CREATED:20251030T080518Z
LAST-MODIFIED:20251103T075239Z
UID:3203-1763319600-1763326800@www.robotnickydom.sk
SUMMARY:GEIŠBERGOVCI KONCERT NA ŽIVO(T)
DESCRIPTION:Účinkujúci: \n\n\n\n\nMarek a Martin Geišbergovci\n\n\n\nLucia Korená\n\n\n\nOndrej Kovaľ\n\n\n\nValér Miko\n\n\n\nMarek Žilinec
URL:https://www.robotnickydom.sk/podujatia/geisbergovci-koncert-na-zivot/
LOCATION:Robotnícky dom\, Robotnícka 3\, Banská Bystrica\, 97401\, Slovenská republika
ATTACH;FMTTYPE=image/jpeg:https://www.robotnickydom.sk/wp-content/uploads/2025/10/600x600-geisberg.jpg
END:VEVENT
BEGIN:VEVENT
DTSTART;TZID=Europe/Bratislava:20251123T170000
DTEND;TZID=Europe/Bratislava:20251123T200000
DTSTAMP:20260426T002342
CREATED:20251105T091136Z
LAST-MODIFIED:20251105T095212Z
UID:3235-1763917200-1763928000@www.robotnickydom.sk
SUMMARY:ČAJ O PIATEJ
DESCRIPTION:Mesto Banská Bystrica Vás pozýva na obľúbenú hudobno-tanečnú zábavu Čaj o piatej\, ktorá je tentokrát venovaná všetkým Katarínam a uskutoční sa v nedeľu 23. novembra v Robotníckom dome. O zábavu sa postará František Škoda so skupinou Excellence. \n\n\n\nKataríny majú vstup zdarma.
URL:https://www.robotnickydom.sk/podujatia/caj-o-piatej-7/
LOCATION:Robotnícky dom\, Robotnícka 3\, Banská Bystrica\, 97401\, Slovenská republika
ATTACH;FMTTYPE=image/jpeg:https://www.robotnickydom.sk/wp-content/uploads/2025/11/600x600-px-caj-o-piatej-katarinska-zabava-23.11.2025.jpg
END:VEVENT
BEGIN:VEVENT
DTSTART;TZID=Europe/Bratislava:20251123T173000
DTEND;TZID=Europe/Bratislava:20251123T200000
DTSTAMP:20260426T002342
CREATED:20251029T094335Z
LAST-MODIFIED:20251029T124927Z
UID:3197-1763919000-1763928000@www.robotnickydom.sk
SUMMARY:LAMPIÓNOVÝ SPRIEVOD
DESCRIPTION:Pozývame malých aj veľkých 23. novembra o 17:30 hod. na tradičný Lampiónový sprievod centrom mesta. Sprievod sa začne na parkovisku pri Múzeu SNP\, odkiaľ sa spoločne vydáme rozžiariť večerné ulice Banskej Bystrice. Konečná zastávka bude na Námestí SNP\, kde na všetkých bude čakať teplý čaj. \n\n\n\nObľúbený lampiónový sprievod centrom mesta v minulosti organizovala skupina nadšencov z prostredia Banskobystrického maratónu. Pred rokom sa stal lampiónový sprievod pevnou súčasťou kalendára mestských podujatí. V závere novembra môžeme spoločne osláviť už jeho 10. ročník. \n\n\n\nNezabudnite si so sebou priniesť lampióny\, úsmev na tvári a teplé oblečenie. \n\n\n\nTešíme sa na vás!
URL:https://www.robotnickydom.sk/podujatia/lampionovy-sprievod/
LOCATION:Námestie SNP\, Námestie SNP\, Banská Bystrica\, 97401\, Slovenská republika
ATTACH;FMTTYPE=image/jpeg:https://www.robotnickydom.sk/wp-content/uploads/2025/10/lampion-600x600px.jpg
END:VEVENT
BEGIN:VEVENT
DTSTART;TZID=Europe/Bratislava:20251127T170000
DTEND;TZID=Europe/Bratislava:20251127T200000
DTSTAMP:20260426T002342
CREATED:20251105T125422Z
LAST-MODIFIED:20251117T075424Z
UID:3242-1764262800-1764273600@www.robotnickydom.sk
SUMMARY:SPOMIENKA NA PAVLA JANÍČKA
DESCRIPTION:Už čoskoro\, 27. novembra o 17:00\, budeme mať príležitosť zaspomínať si na významnú osobnosť slovenskej hudobnej scény. Uskutoční sa spomienkový koncert venovaný pamiatke hudobného skladateľa\, dirigenta a dramaturga Pavla Janíčka (1938 – 2024). \n\n\n\nTento rodák z Banskej Bystrice zasvätil svoj život hudbe. Bol neoddeliteľnou súčasťou Slovenského rozhlasu v Banskej Bystrici\, založil a dlhé roky viedol Orchester Pavla Janíčka.
URL:https://www.robotnickydom.sk/podujatia/spomienka-na-paula-janicka/
LOCATION:Robotnícky dom\, Robotnícka 3\, Banská Bystrica\, 97401\, Slovenská republika
ATTACH;FMTTYPE=image/jpeg:https://www.robotnickydom.sk/wp-content/uploads/2025/11/spomienka-na-PJ.2025.jpg
END:VEVENT
BEGIN:VEVENT
DTSTART;TZID=Europe/Bratislava:20251128T080000
DTEND;TZID=Europe/Bratislava:20260101T220000
DTSTAMP:20260426T002342
CREATED:20251120T092122Z
LAST-MODIFIED:20251121T133535Z
UID:3279-1764316800-1767304800@www.robotnickydom.sk
SUMMARY:BANSKOBYSTRICKÉ VIANOCE
DESCRIPTION:Kultúrny program Banskobystrických Vianoc odštartujeme 28. novembra o 17:00 hod. vystúpením Martina Vetráka a Vojenskej hudby Banská Bystrica. Najmenší budú môcť navštíviť  vianočné tvorivé dielne v priestoroch radnice od 17:00 hod. do 19:00 hod. a vyskúšať si obľúbené vedecké hračky. \n\n\n\nNásledne sa môžeme tešiť na žilinskú rockovú kapelu AYA\, folk-rockovú kapelu P. O. H či skupinu Gladiátor. Na návštevníkov čakajú  svetové vianočné melódie v podaní banskobystrickej jazzovo-swingovej kapely Patrície Šuráňovej – Karvašovej a BB Band\, vystúpenia folklórnych súborov a  skupín\, vianočný koncert slovenskej populárnej speváčky Veroniky Rabada s kapelou a mnoho iných. Adventné obdobie ukončíme živým betlehemom na nádvorí Barbakánu v podaní spoločnosti veselých šermiarov Cassanova. \n\n\n\nBanská Bystrica si v tomto roku pripomína 770. výročie udelenia mestských výsad. V duchu tohto významného jubilea sme mohli prežiť Dni mestskej kultúry či Radvanský jarmok. Z iniciatívy kresťanov nášho mesta bude predvianočný čas patriť aj ekumenickým modlitbám v Kostole nanebovzatia Panny Márie 4.decembra 2025 o 17:30 hod. O hudobný sprievod sa postará banskobystrický zbor Ars Vocalis a Banskobystrický detský spevácky zbor zo ZUŠ J. Cikkera. \n\n\n\nZvonička prianí je povinnou zastávkou každého\, kto sa vyberie na prechádzku vianočnými trhmi. Tento rok bude umiestnená v lokalite pri Barbakáne. Aj drevený betlehem na nádvorí Barbakánu sa za posledné roky stal vyhľadávaným miestom a symbolom Banskobystrických Vianoc.  O výrobu drevenej maštale sa každoročne stará Jaroslav Pásler a o jednotlivé plastiky v betleheme majster rezbár Peter Zoričák.  K svätej rodine s anjelom a trom kráľom tento rok pribudnú plastiky z  lipového dreva vyobrazujúce  dievča a chlapca\, ktorí nesú dary Ježiškovi. Inštalácia a symbolické otvorenie betlehemu sa uskutoční v nedeľu 14. decembra. Pozývame všetkých na Betlehemskú hru v podaní Združenia autentického folklóru Pohronci. \n\n\n\nNa Silvestra (31. decembra) sa budeme môcť na Námestí SNP rozlúčiť so starým rokom v sprievode kapely Hudba z Marsu a DJského dua Malalata. O program počas vítania Nového roka a osláv Dňa vzniku Slovenskej republiky sa postará Lukáš Adamec s kapelou. Vyvrcholením bude pyromuzikálna šou\, ktorá každoročne láka do centra Banskej Bystrice stovky rodín s deťmi. V utorok 6. januára 2026 privítajú ulice mesta nadšencov behu v rámci tradičného Trojkráľového večerného behu.
URL:https://www.robotnickydom.sk/podujatia/banskobystricke-vianoce/
ATTACH;FMTTYPE=image/jpeg:https://www.robotnickydom.sk/wp-content/uploads/2025/11/BB-vianoce-2025.jpg
END:VEVENT
BEGIN:VEVENT
DTSTART;TZID=Europe/Bratislava:20251129T183000
DTEND;TZID=Europe/Bratislava:20251129T210000
DTSTAMP:20260426T002342
CREATED:20251106T081211Z
LAST-MODIFIED:20251110T085148Z
UID:3247-1764441000-1764450000@www.robotnickydom.sk
SUMMARY:ROBOTNÍCKY DOM Pevný bod politicko-kultúrneho života v Banskej Bystrici
DESCRIPTION:18:30 hod. / komentovaná prehliadka výstavy Robotnícky? Áno\, kultúrny! s autorom textu Filipom Glockom a autorom grafiky Patrikom Ševčíkom \n\n\n\n19:00 hod. / krst publikácie ROBOTNÍCKY DOM  \n\n\n\nPevný bod politicko-kultúrneho života v Banskej Bystrici \n\n\n\nmoderuje: Monika Pastuchová \n\n\n\n19:30 hod. / VEDOMOSTNÝ KVÍZ \n\n\n\nMáte radi výzvy a chcete si preveriť svoje vedomosti?Príďte sa zabaviť na kvíz do Robotníckeho domu a získajte zaujímavé ceny. \n\n\n\nSvoje tímy prihlasujte do 25.11.2025 na mail zuzana.kohutova@banskabystrica.sk \n\n\n\nRegistračný poplatok na jeden tím je 5 €\, maximálny počet členov v tíme je 5 osôb. \n\n\n\nPOČET TÍMOV JE OBMEDZENÝ.  \n\n\n\nHudobný hosť: Andy Lou. \n\n\n\nĎalšie z podujatí\, ktoré je organizované pri príležitosti 100. výročia Robotníckeho domu.
URL:https://www.robotnickydom.sk/podujatia/robotnicky-dom-pevny-bod-politicko-kulturneho-zivota-v-banskej-bystrici/
LOCATION:Robotnícky dom\, Robotnícka 3\, Banská Bystrica\, 97401\, Slovenská republika
ATTACH;FMTTYPE=image/jpeg:https://www.robotnickydom.sk/wp-content/uploads/2025/11/RD-26.11.2025-600x600px.jpg
END:VEVENT
BEGIN:VEVENT
DTSTART;TZID=Europe/Bratislava:20251130T190000
DTEND;TZID=Europe/Bratislava:20251130T220000
DTSTAMP:20260426T002342
CREATED:20251013T071111Z
LAST-MODIFIED:20251013T114717Z
UID:3163-1764529200-1764540000@www.robotnickydom.sk
SUMMARY:DAN BÁRTA & IIlUSTRATOSPHERE / Stříbrná svatba tourVzácny hosť: LASH & GREY
DESCRIPTION:Jedinečný koncert Dana Bártu & Illustratosphere\, jedenásťnásobného držiteľa Ceny Anděl v kategóriách Spevák roka a Spevák štvrťstoročia\, pri príležitosti 25. výročia vydania debutového eponymného albumu! \n\n\n\nV rámci turné s názvom Strieborná svadba bude štandardná zostava skupiny Illustratosphere špeciálne rozšírená o duo Lash & Grey so speváčkou Kristínou Mihaľovou\, vychádzajúcou hviezdou na domácej a slovenskej hudobnej scéne.Dan Bárta sa zapísal v deväťdesiatych rokoch do širokého povedomia s kapelou Alice a účinkovaním v muzikáli Jesus Christ Superstar. Stal sa tiež neodmysliteľnou súčasťou kultových J.A.R. Jeho široký hudobný rozhľad našiel uplatnenie od roztancovaných Sexy Dancers cez populárne piesne z filmov (napr. Snowboarďáci\, Rafťáci\, Horem pádom) až po jazz spojený napr. s triom Roberta Balzara. Svoju výraznú stopu zanechal v rade ďalších domácich hudobných projektov a vystupoval aj s veličinami svetovej hudobnej scény (napr. s fenomenálnym spevákom Bobbym McFerrinom alebo so Stingovým dvorným gitaristom Dominicom Millerom). \n\n\n\nV roku 2000 Dan Bárta prekvapil fanúšikov s vlastnou skupinou Illustratosphere\, s ktorou vydal doposiaľ päť štúdiových albumov a jedno živé dvojalbum. Lash & Grey počas posledných dvoch rokov vystúpili na prestížnych pódiách\, vrátane Carnegie Hall v New Yorku\, festivalov v Mexico City\, Guadalajare\, Paríži\, absolvovali tri koncertné turné v Taliansku a vystúpili aj vo Švédsku\, Belgicku\, Holandsku\, Nemecku či vo vysielaní francúzskej ARTE TV. Duo odohralo koncerty v 14 krajinách. V roku 2022 sa Kristína ako jediná Európanka dostala medzi TOP 5 speváčok z celého sveta v prestížnej súťaži Sarah Vaughan Jazz Vocal Competition v New Jersey. Dvojica má na svojom konte tiež množstvo ocenení\, vrátane Ceny Anděl za najlepšie slovenské album „Blossom Of Your World“\, slovenskej Radio_Head Award za najlepší debutový album „Sleepin’ With The Lights On“ a tiež za singel roka 2021 „After War“. Americký magazín Jazziz opisuje ich hudbu ako mimoriadny zážitok. Návštevníkov koncertu teda čaká jedinečná fúzia absolútnych špičiek českej a slovenskej scény s prierezom toho najlepšieho z tvorby Dana Bártu & Illustratosphere!
URL:https://www.robotnickydom.sk/podujatia/dan-barta-iilustratosphere-stribrna-svatba-tourvzacny-host-lash-grey/
LOCATION:Robotnícky dom\, Robotnícka 3\, Banská Bystrica\, 97401\, Slovenská republika
ATTACH;FMTTYPE=image/jpeg:https://www.robotnickydom.sk/wp-content/uploads/2025/10/600x600-dan-barta.jpg
END:VEVENT
END:VCALENDAR