BEGIN:VCALENDAR
VERSION:2.0
PRODID:-//Robotnícky Dom - ECPv6.0.13.1//NONSGML v1.0//EN
CALSCALE:GREGORIAN
METHOD:PUBLISH
X-ORIGINAL-URL:https://www.robotnickydom.sk
X-WR-CALDESC:Events for Robotnícky Dom
REFRESH-INTERVAL;VALUE=DURATION:PT1H
X-Robots-Tag:noindex
X-PUBLISHED-TTL:PT1H
BEGIN:VTIMEZONE
TZID:Europe/Bratislava
BEGIN:DAYLIGHT
TZOFFSETFROM:+0100
TZOFFSETTO:+0200
TZNAME:CEST
DTSTART:20250330T010000
END:DAYLIGHT
BEGIN:STANDARD
TZOFFSETFROM:+0200
TZOFFSETTO:+0100
TZNAME:CET
DTSTART:20251026T010000
END:STANDARD
END:VTIMEZONE
BEGIN:VEVENT
DTSTART;TZID=Europe/Bratislava:20250612T000000
DTEND;TZID=Europe/Bratislava:20250914T235959
DTSTAMP:20260426T042003
CREATED:20250704T120650Z
LAST-MODIFIED:20250714T072323Z
UID:3006-1749686400-1757894399@www.robotnickydom.sk
SUMMARY:BANSKOBYSTRICKÉ KULTÚRNE LETO 2025
DESCRIPTION:Viac ako 160 podujatí po celom meste je pripravených pre obyvateľov i návštevníkov počas Banskobystrického kultúrneho leta 2025. Od júna do septembra sa môžeme tešiť na koncerty\, výstavy\, filmové projekcie\, divadelné predstavenia\, workshopy\, tvorivé dielne\, festivaly a ďalšie kultúrne udalosti\, ktoré spríjemnia letné dni v meste pod Urpínom.  
URL:https://www.robotnickydom.sk/podujatia/banskobystricke-kulturne-leto-2025/
ATTACH;FMTTYPE=image/jpeg:https://www.robotnickydom.sk/wp-content/uploads/2025/07/600x600-kl-2025.jpg
END:VEVENT
BEGIN:VEVENT
DTSTART;TZID=Europe/Bratislava:20250614T173000
DTEND;TZID=Europe/Bratislava:20250824T180000
DTSTAMP:20260426T042003
CREATED:20250630T134019Z
LAST-MODIFIED:20250701T063614Z
UID:2979-1749922200-1756058400@www.robotnickydom.sk
SUMMARY:SÍDLISKOVÉ VEČERNÍČKY
DESCRIPTION:Aké by to bolo leto\, keby si na svoje neprišli aj najmenší Banskobystričania? Po roku sa do jednotlivých častí mesta vracajú pre deti s rodičmi rozprávky\, mnohé z nich priamo pod holým nebom.
URL:https://www.robotnickydom.sk/podujatia/sidliskove-vecernicky-3/
ATTACH;FMTTYPE=image/jpeg:https://www.robotnickydom.sk/wp-content/uploads/2025/06/600x600-vecernicky-2025.jpg
END:VEVENT
BEGIN:VEVENT
DTSTART;TZID=Europe/Bratislava:20250801T183000
DTEND;TZID=Europe/Bratislava:20250801T220000
DTSTAMP:20260426T042003
CREATED:20250717T065607Z
LAST-MODIFIED:20250717T065608Z
UID:3039-1754073000-1754085600@www.robotnickydom.sk
SUMMARY:VOLUME 2025
DESCRIPTION:Volume je skvelá trenčianska rocková kapela. Vznikli v r. 2013. Začali s klasickejším hard rockom\, neskôr ho obohatili o nové prvky.
URL:https://www.robotnickydom.sk/podujatia/volume-2025/
LOCATION:Námestie SNP\, Námestie SNP\, Banská Bystrica\, 97401\, Slovenská republika
ATTACH;FMTTYPE=image/jpeg:https://www.robotnickydom.sk/wp-content/uploads/2025/07/volume-600x600px.jpg
END:VEVENT
BEGIN:VEVENT
DTSTART;TZID=Europe/Bratislava:20250802T103000
DTEND;TZID=Europe/Bratislava:20250802T123000
DTSTAMP:20260426T042003
CREATED:20250711T125353Z
LAST-MODIFIED:20250721T065830Z
UID:3028-1754130600-1754137800@www.robotnickydom.sk
SUMMARY:GRAND RETRO SHOW 2025
DESCRIPTION:Námestie SNP ožije noblesou a eleganciou historických vozidiel \n\n\n\nPrvá augustová sobota na Námestí SNP sa ponesie v znamení noblesy a elegancie. Milovníci historických vozidiel sa môžu tešiť na stretnutie veteránov z minulých rokov. Celkovo 50 posádok príde nielen z Českej republiky\, ale aj z Maďarska. Sprievod povedie aj tento rok Dolnou ulicou približne o 10.30 hod. \n\n\n\nDiváci sa môžu tešiť na vozidlá svetových značiek ako Mercedes\, Bentley\, Alvis\, Cadillac či Chevrolet. \n\n\n\nHlavným ťahákom bude určite Rolls Royce z roku 1930\, ktorého karoséria je potiahnutá kožou. Podľa všetkých znakov bol tento unikátny kúsok vyrobený pre niekoho z členov anglickej kráľovskej rodiny a v súčasnosti prebieha pátranie po jeho kompletnej histórii. \n\n\n\nZ československých vozidiel budú určite pastvou pre oči nielen pre odborníkov\, ale aj pre laikov\, dve nádherné vozidlá: Tatra 87 a Tatra 87 Diplomat. \n\n\n\nAtmosféru autentických zvukov 20. až 50. rokov minulého storočia dotvorí koncert v podaní Paper Moon Trio. Toto dámske zoskupenie – Andrea Kružliaková (gitara\, spev)\, Barbora Medeková (ukulele\, spev) a Kristína Uhlíková/Juliana Šeregiová (husle\, spev/v alternácii) – vás očarí svojou unikátnou technikou „close harmony“\, ktorú si osvojili počas pôsobenia v Bratislava Hot Serenaders. \n\n\n\nHistorické vozidlá budú môcť návštevníci obdivovať na Námestí SNP približne do 12:30 hod. Následne sa sprievod veteránov vydá na jazdu Podpoľaním smerom na zámok vo Vígľaši\, kde sa uskutoční ďalší kultúrny program.
URL:https://www.robotnickydom.sk/podujatia/grand-retro-show-2025/
LOCATION:Námestie SNP\, Námestie SNP\, Banská Bystrica\, 97401\, Slovenská republika
ATTACH;FMTTYPE=image/jpeg:https://www.robotnickydom.sk/wp-content/uploads/2025/07/Snimka-obrazovky-2025-07-11-145253.jpg
END:VEVENT
BEGIN:VEVENT
DTSTART;TZID=Europe/Bratislava:20250802T150000
DTEND;TZID=Europe/Bratislava:20250802T220000
DTSTAMP:20260426T042003
CREATED:20250703T124548Z
LAST-MODIFIED:20250801T080904Z
UID:3001-1754146800-1754172000@www.robotnickydom.sk
SUMMARY:SVET NA DOSAH
DESCRIPTION:WORKSHOPY – ZAŽITE\, TVORTE\, TANCUJTE! \n\n\n\n15:00 – JAMADANPreneste sa do srdca Afriky!Vyskúšajte si silu rytmu na bubnovom workshope\, ktorý rozhýbe nielen ruky\, ale aj dušu. \n\n\n\n16:00 – KREATÍVNY WORKSHOP: EXOTICKÉ ČELENKYFarby\, pierka a fantázia!Vyrobte si vlastnú exotickú čelenku a staňte sa súčasťou karnevalovej atmosféry. \n\n\n\n17:00 – LATINO WORKSHOP: LEE SANDOVAL PEREZ (VENEZUELA)Latinskoamerický temperament na dosah!Pod vedením venezuelského tanečníka sa naučíte kroky salsy\, merengue\, reggaeton-u \n\n\n\n18:00 – STREET DANCE S NOROM GROFČÍKOMToto bude jazda!Päťnásobný majster sveta v street dance vás naučí choreografiu plnú energie\, pohybu a štýlu. \n\n\n\nNezáleží na tom\, koľko máte rokov ani skúseností – príďte si to vyskúšať\, zabaviť sa a zažiť niečo nové! Workshopy sú bezplatné.Workshopmi vás prevedú profesionáli\, ktorí vás dostanú do rytmu ešte pred večernou LATINOSHOW! \n\n\n\nHLAVNÝ STAGE \n\n\n\n19:00 – DJ LATIN WARM UP PARTY20:00 LATINOSHOW Hudba – Rytmus – Tanec – Energia Latinskej Ameriky \n\n\n\nLatinoshow je unikátna hudobno-tanečná show\, ktorá spája živý latin band\, bubnovú show a choreografie dvoch tanečných skupín do jednej výnimočnej udalosti.Na jednom pódiu sa predstaví 30 účinkujúcich\, ktorí prenesú divákov z autentických kubánskych uličiek cez horúce brazílske karnevaly až po moderné rytmy Latinskej Ameriky. \n\n\n\nDominika Titková & FriendsLatin band pod vedením speváčky a saxofonistky a striebornej finalistky Česko Slovensko má talent\, vnáša do show autenticitu s osobitým šarmom. \n\n\n\nCampana BatucadaNajväčšia bubnová show na Slovensku a prvá škola samby – rytmy\, ktoré rozhýbu celé publikum. \n\n\n\nLa Rosa Dance GroupProfesionálna tanečná skupina známa exotickými a precízne vystavanými choreografiami zapája aj publikum do interakcií počas show. \n\n\n\nNoro Grofčík & N Dance Company5-násobný majster sveta v street dance spolu s tímom predvedú dychberúce spojenie moderného tanca a latinskej energie. \n\n\n\nLee Sandoval Perez (Venezuela)Špeciálny hosť prinesie latinský temperament priamo z Južnej Ameriky. \n\n\n\nClaudia Bole Dovic \n\n\n\n2-násobná majsterka Európy v latino tancoch.
URL:https://www.robotnickydom.sk/podujatia/svet-na-dosah/
LOCATION:Námestie Štefana Moysesa\, Námestie Štefana Moysesa\, Banská Bystrica\, 974 01\, Slovenská republika
ATTACH;FMTTYPE=image/jpeg:https://www.robotnickydom.sk/wp-content/uploads/2025/07/600x600-svet-na-dosah-2025.jpg
END:VEVENT
BEGIN:VEVENT
DTSTART;TZID=Europe/Bratislava:20250805T090000
DTEND;TZID=Europe/Bratislava:20250806T110000
DTSTAMP:20260426T042003
CREATED:20250707T061055Z
LAST-MODIFIED:20250718T061557Z
UID:3011-1754384400-1754478000@www.robotnickydom.sk
SUMMARY:PRÁZDNINOVÉ TVORENIE
DESCRIPTION:
URL:https://www.robotnickydom.sk/podujatia/prazdninove-tvorenie/
LOCATION:Robotnícky dom\, Robotnícka 3\, Banská Bystrica\, 97401\, Slovenská republika
ATTACH;FMTTYPE=image/jpeg:https://www.robotnickydom.sk/wp-content/uploads/2025/07/600x600-tvorenie-2025-1.jpg
END:VEVENT
BEGIN:VEVENT
DTSTART;TZID=Europe/Bratislava:20250814T170000
DTEND;TZID=Europe/Bratislava:20250814T190000
DTSTAMP:20260426T042003
CREATED:20250718T062202Z
LAST-MODIFIED:20250718T062203Z
UID:3048-1755190800-1755198000@www.robotnickydom.sk
SUMMARY:ARS POETICA NEOSOLIENSIS
DESCRIPTION:Srdečne Vás pozývame na augustový cyklus multižánrového literárno-hudobného a výtvarného podujatia Ars Poetica Neosoliensis\, ktorý sa uskutoční vo štvrtok 14.08.2025 o 17:00 hod. v Cikkerovej sieni historickej radnice. \n\n\n\nZ verejných zdrojov podporil Fond na podporu umenia.
URL:https://www.robotnickydom.sk/podujatia/ars-poetica-neosoliensis-11/
LOCATION:Radnica\, Námestie SNP 1\, Banská Bystrica\, 974 01\, Slovenská republika
ATTACH;FMTTYPE=image/jpeg:https://www.robotnickydom.sk/wp-content/uploads/2025/07/600x600-apn-august-2025.jpg
END:VEVENT
BEGIN:VEVENT
DTSTART;TZID=Europe/Bratislava:20250815T183000
DTEND;TZID=Europe/Bratislava:20250815T220000
DTSTAMP:20260426T042003
CREATED:20250812T090037Z
LAST-MODIFIED:20250812T092503Z
UID:3065-1755282600-1755295200@www.robotnickydom.sk
SUMMARY:JUREŠ FALLGRAPP
DESCRIPTION:🎶 Pripravte sa na super piatkový večer\, Bystričania! 🎶 \n\n\n\nUž tento piatok\, 15. augusta\, sa vidíme pred Domom kultúry na poriadnej dávke hudby! 🕺 Začíname o 18:30 s DJ Rastou & Helfarines a potom\, o 20:30\, sa môžete tešiť na parádny DJ-set Jureša Fallgrappa!  \n\n\n\nKonečne sa pred Domom kultúry niečo deje a bude to stáť za to! 😉 A pozor\, vidíme sa pod kinom Domu kultúry!  \n\n\n\nNenechajte si to ujsť\, zavolajte kamošov a prídite si užiť skvelú atmosféru! 😎 \n\n\n\n\n\n\n\n\nMapa areálu:
URL:https://www.robotnickydom.sk/podujatia/jures-fallgrapp/
ATTACH;FMTTYPE=image/jpeg:https://www.robotnickydom.sk/wp-content/uploads/2025/08/jures-600x600px.jpg
END:VEVENT
END:VCALENDAR