BEGIN:VCALENDAR
VERSION:2.0
PRODID:-//Robotnícky Dom - ECPv6.0.13.1//NONSGML v1.0//EN
CALSCALE:GREGORIAN
METHOD:PUBLISH
X-WR-CALNAME:Robotnícky Dom
X-ORIGINAL-URL:https://www.robotnickydom.sk
X-WR-CALDESC:Events for Robotnícky Dom
REFRESH-INTERVAL;VALUE=DURATION:PT1H
X-Robots-Tag:noindex
X-PUBLISHED-TTL:PT1H
BEGIN:VTIMEZONE
TZID:Europe/Bratislava
BEGIN:DAYLIGHT
TZOFFSETFROM:+0100
TZOFFSETTO:+0200
TZNAME:CEST
DTSTART:20260329T010000
END:DAYLIGHT
BEGIN:STANDARD
TZOFFSETFROM:+0200
TZOFFSETTO:+0100
TZNAME:CET
DTSTART:20261025T010000
END:STANDARD
END:VTIMEZONE
BEGIN:VEVENT
DTSTART;TZID=Europe/Bratislava:20260312T180000
DTEND;TZID=Europe/Bratislava:20260410T200000
DTSTAMP:20260425T201147
CREATED:20260219T100046Z
LAST-MODIFIED:20260219T124948Z
UID:3439-1773338400-1775851200@www.robotnickydom.sk
SUMMARY:65. BANSKOBYSTRICKÁ HUDOBNÁ JAR
DESCRIPTION:Najstarší hudobný festival v meste zameriavajúci sa primárne na diela klasickej hudby prinesie počas marca a apríla štyri atraktívne hudobné produkcie. Hoci ide o tradičné podujatie\, nebojí sa prinášať moderné prvky a lákať aj mladšieho diváka. \n\n\n\n\n \n\n\n\n„Počas svojej dlhoročnej existencie zaznamenáva BBHJ pozitívny generačný posun publika. Vďaka systematickému oslovovaniu mladých divákov sa postupne rozširuje konzervatívna časť publika aj o mladšiu generáciu\, ktorá kontinuálne prerastá do novej diváckej základne. To nás veľmi teší a tiež nám to dáva možnosť inovovať jeho pôvodnú klasickú koncepciu aj do priestoru kreatívnej multižánrovosti\,“ uviedla dramaturgička podujatia Katarína Hulinová z Kultúrneho centra Robotnícky dom. \n\n\n\nFestival je interpretačne orientovaný na prezentáciu hudobného umenia prostredníctvom významných osobností a komorných súborov aj s medzinárodným renomé. Programovo a dramaturgicky BBHJ zahŕňa diela európskej hudobnej proveniencie\, rôznych žánrov a štýlových období. Neprehliadnuteľným zámerom festivalu nie je len prirodzené spestrenie kultúrneho života\, ale predovšetkým využitie nevyčerpateľného archívneho bohatstva hudby. Vďaka historickým obmenám a dramaturgickému výberu si BBHJ zachováva atraktívnosť každého festivalového podujatia. \n\n\n\nBanskobystrická hudobná jar prežila dodnes a za roky svojho pôsobenia uskutočnila stovky koncertov\, privítala mnohých domácich aj zahraničných umelcov a priniesla stovky diel svetovej klasickej hudby. Festival sa ale do dôchodku určite nepoberá\, práve naopak. Organizátori neustále rozširujú pole jeho pôsobnosti a tento rok si pre návštevníkov pripravili nasledujúce koncerty: \n\n\n\n \n\n\n\n\n\n \n\n\n\nPROGRAM: \n\n\n\n\n12. marca 2026 / 18.00 / Robotnícky domAjna Marosz a Hilaris Chamber OrchestraÚvodný koncert BBHJ bude patriť Hilaris Chamber Orchestra z Bratislavy s dirigentom Alanom Vizvárym. Sólistkou bude flautistka Ajna Marosz zo Žiliny.  \n\n\n\nViac info  \n\n\n\n\n \n\n\n\n\n19. marca 2026 / 18.00 / Robotnícky domAlma RoséUmeleckú multižánrovosť BBHJ bude reprezentovať český hudobno-dramatický divadelný projekt s tematikou šoa – holokaustu. \n\n\n\nViac info \n\n\n\n\n \n\n\n\n\n24. marca 2026 / 18.00 / Robotnícky domV rytme cimbalových paličiekKvinteto špičkových inštrumentalistov\, so sólistom v hre na cimbale Mykhaylom Zakhariyom\, ukrajinským rodákom\, prinesie na festival hudbu rôznych žánrov. \n\n\n\nViac info  \n\n\n\n\n \n\n\n\n\n10. apríla 2026 / 18.00 / Robotnícky domCello Republic (cz)Záver festivalu bude patriť medzinárodne etablovanému kvartetu českých violončelistov s názvom Cello Republic (Petr Špaček\, Jan Zemen\, Matěj Štěpánek\, Ivan Vokáč)\, symbolom pospolitosti\, spolupráce a rovnoprávnosti. \n\n\n\nViac info
URL:https://www.robotnickydom.sk/podujatia/65-banskobystricka-hudobna-jar/
LOCATION:Mesto Banská Bystrica
ATTACH;FMTTYPE=image/jpeg:https://www.robotnickydom.sk/wp-content/uploads/2026/02/ticket-live-400x400px.jpg
END:VEVENT
BEGIN:VEVENT
DTSTART;TZID=Europe/Bratislava:20260409T173000
DTEND;TZID=Europe/Bratislava:20260409T190000
DTSTAMP:20260425T201147
CREATED:20260324T122119Z
LAST-MODIFIED:20260325T114435Z
UID:3529-1775755800-1775761200@www.robotnickydom.sk
SUMMARY:JARNÝ SLOVOMfest
DESCRIPTION:Pozývame vás na ďalšie pokračovanie obľúbeného podujatia Jarný SLOVOMfest 2026\, kde sa slovo spája s hudbou a výtvarným umením. 🎶✍️ \n\n\n\nPríďte si vychutnať večer plný inšpirácie\, mladých talentov aj skúsených majstrov slova a tónov. Čaká vás poézia\, próza\, aforizmy a podmanivé vystúpenie hudobného kvarteta. \n\n\n\n🗓 KEDY: 9. apríla 2026 o 17:30 \n\n\n\n📍 KDE: Robotnícky dom\, Banská Bystrica \n\n\n\n🎟 VSTUP: Voľný \n\n\n\nTešíme sa na vás! Zoberte priateľov a príďte načerpať jarnú umeleckú energiu. 🌿✨ \n\n\n\nViac info na: www.generacianula.sk | www.banskabystrica.sk \n\n\n\n#BanskaBystrica #Slovomfest #GeneraciaNula #Umenie #Kultura #Poezia #Hudba
URL:https://www.robotnickydom.sk/podujatia/jarny-slovomfest/
LOCATION:Robotnícky dom\, Robotnícka 3\, Banská Bystrica\, 97401\, Slovenská republika
ATTACH;FMTTYPE=image/jpeg:https://www.robotnickydom.sk/wp-content/uploads/2026/03/Gemini_Generated_Image_95nwb495nwb495nw.jpg
END:VEVENT
BEGIN:VEVENT
DTSTART;TZID=Europe/Bratislava:20260410T180000
DTEND;TZID=Europe/Bratislava:20260410T200000
DTSTAMP:20260425T201147
CREATED:20260219T100009Z
LAST-MODIFIED:20260219T100010Z
UID:3464-1775844000-1775851200@www.robotnickydom.sk
SUMMARY:CELLO REPUBLIC (CZ)
DESCRIPTION:Cello Republic je súbor zložený zo štyroch violončelistov\, ktorí si po štúdiách na popredných svetových vysokých školách uvedomili\, že im v ich doterajšom koncertovaní na veľkých pódiách niečo chýbalo – humor. Aj napriek svojim úplne rozdielnym charakterom a pohľadu na svet sa dvaja koncertní majstri Českej filharmónie\, „crossoverová star“ a profesor konzervatória dali dokopy s cieľom predstavovať hudbu ako niečo aktuálne\, živé a nevyhnutné\, takmer ako vzduch\, ktorý dýchame. Zahadzujú bezpečnú vážnosť inštitúcií a mažú hranicu medzi pódiom a divákom. Prichádzajú s konceptom koncertu s podtitulom „no limits“\, v ktorom vymazávajú doterajšie hranice technických možností violončela\, doplneným o „stand-up comedy show“\, kde na jednej strane hudbu vysvetľujú a glosujú\, na druhej strane ju dávajú do súvislostí s ľudskými príbehmi a anekdotami z bežného života. Ich koncerty sú preto zároveň prístupné tak širokej verejnosti\, ako aj zanietenému poslucháčovi či špecialistovi na vážnu hudbu. \n\n\n\nSúbor vznikol podobne ako Fénix\, „z popola“ pôvodného cellového ansámblu\, ktorý sa rozpadol v roku 2022. V Čechách i vo svete sa táto štvorica stala známou vďaka skvelým hudobným aranžmánom väčšiny hudobných žánrov\, videoklipom a trojici nahratých CD. Pod novým názvom súboru pridávajú štvrté CD FREEDOM\, na ktorom sa obzerajú za viac než desiatimi rokmi spoločného hrania\, ale naznačujú aj smer budúceho smerovania. Viac na cellorepublic.cz
URL:https://www.robotnickydom.sk/podujatia/cello-republic-cz/
LOCATION:Robotnícky dom\, Robotnícka 3\, Banská Bystrica\, 97401\, Slovenská republika
ATTACH;FMTTYPE=image/png:https://www.robotnickydom.sk/wp-content/uploads/2026/02/ticket-live-600x3556500px7-1.png
END:VEVENT
BEGIN:VEVENT
DTSTART;TZID=Europe/Bratislava:20260419T090000
DTEND;TZID=Europe/Bratislava:20260419T160000
DTSTAMP:20260425T201147
CREATED:20260407T071532Z
LAST-MODIFIED:20260407T071533Z
UID:3548-1776589200-1776614400@www.robotnickydom.sk
SUMMARY:MAJSTROVSTVÁ SLOVENSKA
DESCRIPTION:Hľadáte spojenie energie\, rytmu a talentu? Pozývame vás na Majstrovstvá Slovenska\, ktoré sa uskutočnia v srdci stredného Slovenska!  \n\n\n\nPríďte si vychutnať jedinečnú atmosféru tanečnej súťaže v disciplínach DCC videoclipdancing\, streetstyle a battle. Podujatie organizuje SUTTS v spolupráci s Mestom Banská Bystrica a POUS STUDIO.  \n\n\n\nDátum: 19. 04. 2026  \n\n\n\nČas: od 9:00 hod.  \n\n\n\nMiesto: Robotnícky dom\, Robotnícka 3\, Banská Bystrica \n\n\n\nDospelí: 8 € / Deti do 15 rokov: 6 € / Deti do 6 rokov: zadarmo \n\n\n\nNenechajte si ujsť najlepšie tanečné výkony sezóny! Či už ste fanúšikom streetstyleu alebo vás fascinujú prepracované choreografie videoclipdancingu\, v Robotníckom dome na vás čaká nezabudnuteľný zážitok.
URL:https://www.robotnickydom.sk/podujatia/majstrovstva-slovenska/
LOCATION:Robotnícky dom\, Robotnícka 3\, Banská Bystrica\, 97401\, Slovenská republika
ATTACH;FMTTYPE=image/jpeg:https://www.robotnickydom.sk/wp-content/uploads/2026/04/Gemini_Generated_Image_t2m14zt2m14zt2m1.jpg
END:VEVENT
BEGIN:VEVENT
DTSTART;TZID=Europe/Bratislava:20260424T190000
DTEND;TZID=Europe/Bratislava:20260425T190000
DTSTAMP:20260425T201147
CREATED:20260303T125817Z
LAST-MODIFIED:20260330T130435Z
UID:3485-1777057200-1777143600@www.robotnickydom.sk
SUMMARY:30. UNITED EUROPE JAZZ FESTIVAL
DESCRIPTION:🎺 Oslávte tri dekády jazzu v našom meste 🎺 \n\n\n\nPozývame vás na jubilejný 30. United Europe Jazz Festival\, ktorý nie je len sériou koncertov\, ale aj miestom na stretávanie\, inšpiráciu a kultúrny dialóg. Vystúpia na ňom výnimoční slovenskí aj zahraniční hudobníci\, ktorí prinesú to najlepšie z jazzovej scény.  \n\n\n\nFestival sa tentokrát výraznejšie  ponesie na vlnách swingu\, ktorý nebol iba módnou vlnou jazzu\, ale skutočným životným štýlom\, revoltou a rebéliou. \n\n\n\nJeho elegancia\, vášeň a muzikalita sú však rovnako platné aj v dnešnej dobe. \n\n\n\n \n\n\n\n\nScott Hamilton \n\n\n\nLegendárny americký tenor saxofonista patrí k najvýraznejším predstaviteľom tradičného jazzu a swingu na súčasnej scéne. Jeho štýl\, charakteristický plným tónom a melodickou improvizáciou\, nadväzuje na odkaz klasikov tohto nástroja. \n\n\n\nVSTUPENKY \n\n\n\n\n \n\n\n\n\nOndřej Havelka a jeho Melody Makers \n\n\n\nNajkrajšie české piesne z nesmrteľných filmových komédií Prvej  republiky. Ako aj na sladké a horúce kúsky spoza Atlantiku. V hudobnom  uragáne\, v ktorom bude svišťať Swing! Iba Swing! Ten senzačný Swing! \n\n\n\nVYPREDANÉ \n\n\n\n\n \n\n\n\n\nUnited Europe Jazz Festival \n\n\n\nsa koná v Banskej Bystrici už od roku 1996 a v čase svojho vzniku bol jediným dixielandovým festivalom na Slovensku. V roku 2002 mestá Banská Bystrica\, Hradec Králové (ČR)\, Zakopane (PL) a Salgótarján (HU) spojili svoje jazzové festivaly a vytvorili spoločný projekt s názvom Stredoeurópsky jazzový most.  \n\n\n\nZADARMO
URL:https://www.robotnickydom.sk/podujatia/30-united-europe-jazz-festival/
ATTACH;FMTTYPE=image/jpeg:https://www.robotnickydom.sk/wp-content/uploads/2026/03/FB_1200x63fffd0px.jpg
END:VEVENT
BEGIN:VEVENT
DTSTART;TZID=Europe/Bratislava:20260430T160000
DTEND;TZID=Europe/Bratislava:20260430T173000
DTSTAMP:20260425T201147
CREATED:20260414T080802Z
LAST-MODIFIED:20260414T080803Z
UID:3553-1777564800-1777570200@www.robotnickydom.sk
SUMMARY:STAVANIE MÁJA
DESCRIPTION:Stavanie májov patrí k našim najkrajším tradíciám – je to oslava víťazstva jari nad zimou a pripomienka tvorivej sily\, ktorú v sebe nesie folklórne dedičstvo našich predkov. \n\n\n\nHoci kedysi stavali mládenci vysoké smreky a jedle pod okná svojich vyvolených\, dnes sa tento zvyk sústreďuje aj do srdca mesta. Podujatie sa uskutoční 30. 4. 2026 o 16:00 na Námestí SNP. \n\n\n\nO to\, aby na našom námestí stál ten najkrajší máj a o výbornú náladu sa postarajú folkloristi z FS Urpín a DFS Radosť z Banskej Bystrice. Máj ozdobený pestrofarebnými stuhami zostane dominantou nášho námestia počas celého mesiaca.
URL:https://www.robotnickydom.sk/podujatia/stavanie-maja-3/
LOCATION:Námestie SNP\, Námestie SNP\, Banská Bystrica\, 97401\, Slovenská republika
ATTACH;FMTTYPE=image/jpeg:https://www.robotnickydom.sk/wp-content/uploads/2026/04/Gemini_Generated_Image_miunrbmiunrbmiun.jpg
END:VEVENT
BEGIN:VEVENT
DTSTART;TZID=Europe/Bratislava:20260510T170000
DTEND;TZID=Europe/Bratislava:20260510T183000
DTSTAMP:20260425T201147
CREATED:20260416T065256Z
LAST-MODIFIED:20260416T065335Z
UID:3564-1778432400-1778437800@www.robotnickydom.sk
SUMMARY:KONCERT KU DŇU MATIEK ROBO OPATOVSKÝ
DESCRIPTION:V rámci plánovaných podujatí v roku 2026 nechýba ani program ku Dňu matiek\, ktorý pripravujeme v Robotníckom dome. Po koncertoch Duchoňovcov\, Petra Cmoríka\, Funny Fellows\, Mila Kráľa či minuloročného vystúpenia Filipa Tůmu\, sa o tohtoročný program postará populárny spevák a charizmatický umelec Robo Opatovský. V programe zaznejú jeho najznámejšie hity a emotívne skladby\, ktoré sú oslavou lásky\, úcty a vďaky všetkým ženám. Pre všetky mamy\, staré mamy či babky bude navyše pripravený kvietok ako symbol poďakovania.
URL:https://www.robotnickydom.sk/podujatia/koncert-ku-dnu-matiek-robo-opatovsky/
LOCATION:Robotnícky dom\, Robotnícka 3\, Banská Bystrica\, 97401\, Slovenská republika
ATTACH;FMTTYPE=image/jpeg:https://www.robotnickydom.sk/wp-content/uploads/2026/04/robo-dm-bb-2026-.jpg
END:VEVENT
BEGIN:VEVENT
DTSTART;TZID=Europe/Bratislava:20260512T180000
DTEND;TZID=Europe/Bratislava:20260512T200000
DTSTAMP:20260425T201147
CREATED:20260319T095530Z
LAST-MODIFIED:20260402T090550Z
UID:3520-1778608800-1778616000@www.robotnickydom.sk
SUMMARY:TUKTUKEM Z BANGKOKU DOMŮ
DESCRIPTION:Vydajte sa na cestu plnú dobrodružstva\, smiechu a inšpirácie s Tomášom Vejmolom\, známym ako Tomík na cestách! Tento mladý cestovateľ vás vezme na nezabudnuteľný ročný roadtrip v thajskej trojkolke\, ktorá sa stala nielen jeho dopravným prostriedkom\, ale aj spoločníkom na ceste dlhej 13 000 kilometrov cez 9 krajín. \n\n\n\nO čom to celé bude? Predstavte si\, že si kúpite 35 rokov starý tuktuk\, nemáte žiadne skúsenosti s opravami\, a napriek tomu sa vydáte na ročnú výpravu cez polovicu sveta. Presne to urobil Tomík! Na svojej trase prešiel Thajsko\, Mjanmarsko\, Indiu\, Nepál\, Irán\, Turecko\, Bulharsko\, Srbsko\, Maďarsko a po roku dorazil na Moravu. \n\n\n\nA čo počas toho zažil? \n\n\n\n\nÚteky pred rozzúreným slonom v Indii. 🐘\n\n\n\nPonuky na sobáš v exotických krajinách. 💍\n\n\n\nNepredvídateľné situácie\, poruchy a momenty\, keď sa zdalo\, že cesta sa skončí.\n\n\n\nAle aj neuveriteľnú pohostinnosť a krásu Iránu a ďalších krajín. 🌍\n\n\n\n\nTomík vás s humorom a nadhľadom prevedie týmito zážitkami\, pridá svoje postrehy o prekonávaní prekážok a ukáže\, že keď sa chce\, tak sa dá. \n\n\n\nNa čo sa môžete tešiť? \n\n\n\n\n📸 Fotografie\, ktoré vás vtiahnu priamo do deja.\n\n\n\n🎥 Videoprojekcie zachytávajúce tie najnapínavejšie aj najvtipnejšie momenty cesty.\n\n\n\n😂 Stand-up štýl rozprávania\, ktorý vám vyčarí úsmev na tvári.\n\n\n\n\nKto je Tomáš Vejmola? Cestovateľ\, autor troch kníh a dvoch celovečerných filmov pre Prima Zoom\, sprievodca v Maroku a Gruzínsku a neúnavný rozprávač príbehov\, ktorý svojím nadšením inšpiruje tisíce ľudí. Keď necestuje po svete\, zdieľa svoje zážitky na festivaloch\, v kinách\, knižniciach aj školách. 📢 \n\n\n\nPrečo prísť? Pretože Tomíkov príbeh nie je len o cestovaní\, ale aj o prekonávaní hraníc\, odvahe\, túžbe spoznávať svet a o tom\, že aj malá trojkolka môže zdolať tisíce kilometrov\, keď má odhodlaného vodiča! Príďte a odneste si domov nielen úsmev\, ale aj inšpiráciu do života. 🌍✨ Kliknite na „Zúčastním sa“ a nezabudnite pozvať svojich priateľov!
URL:https://www.robotnickydom.sk/podujatia/tuktukem-z-bangkoku-domu/
LOCATION:Robotnícky dom\, Robotnícka 3\, Banská Bystrica\, 97401\, Slovenská republika
ATTACH;FMTTYPE=image/jpeg:https://www.robotnickydom.sk/wp-content/uploads/2026/03/Gemini_Generated_Image_iehgw7iehgw7iehg.jpg
END:VEVENT
BEGIN:VEVENT
DTSTART;TZID=Europe/Bratislava:20260525T180000
DTEND;TZID=Europe/Bratislava:20260525T193000
DTSTAMP:20260425T201147
CREATED:20260220T090310Z
LAST-MODIFIED:20260227T155208Z
UID:3472-1779732000-1779737400@www.robotnickydom.sk
SUMMARY:Vřešťál 70 - NEŘEZ TRIO
DESCRIPTION:Zdeněk Vřešťál – zakladajúci člen NEREZU jubiluje! Pri tejto príležitosti kapela NEŘEŽ TRIO v zložení: Zdeněk Vřešťál\, Vít Sázavský a Róbert Fischman odohrá sériu  jedinečných koncertov na Slovensku k životnému jubileu spojených s krstom nového albumu. Buďte pri tom a užite si to! Po koncerte predaj CD\, podpisy\, fotenie.
URL:https://www.robotnickydom.sk/podujatia/vrestal-70-nerez-trio/
LOCATION:Robotnícky dom\, Robotnícka 3\, Banská Bystrica\, 97401\, Slovenská republika
ATTACH;FMTTYPE=image/jpeg:https://www.robotnickydom.sk/wp-content/uploads/2026/02/Zdenek-Vrestal-600x600-25.5.2026.jpg
END:VEVENT
BEGIN:VEVENT
DTSTART;TZID=Europe/Bratislava:20260919T180000
DTEND;TZID=Europe/Bratislava:20260919T200000
DTSTAMP:20260425T201147
CREATED:20260328T154142Z
LAST-MODIFIED:20260328T154218Z
UID:3537-1789840800-1789848000@www.robotnickydom.sk
SUMMARY:KATARÍNA NÁDASKÁ - Ľúbostná mágia - Banská Bystrica
DESCRIPTION:KATARÍNA NÁDASKÁ – prednáška s besedou na tému Stretnutie s históriou – Ľúbostná mágia \n\n\n\nKatarína Nádaská nám vysvetlí\, ako sa pripravovali nápoje a jedlá lásky\, aký bol rozdiel medzi ľúbostnou a erotickou mágiou.Nahliadneme aj do tajomstiev starých receptov a rituálov\, ktoré mali za úlohu prebudiť vášeň\, upevniť city alebo získať srdce milovanej osoby.Dozviete sa\, aké bylinky a symboly sa používali\, čo znamenali a ako sa ich sila využívala v rôznych obdobiach histórie – od stredovekých čarodejníc až po ľudové liečiteľky. Prednáška bude prepletená príbehmi\, symbolikou a fascinujúcimi historickými súvislosťami. \n\n\n\nPhDr. Katarína Nádaská\, PhD. je oceňovaná etnologička a historička\, ktorá sa špecializuje na náboženskú etnológiu\, etnomedicínu\, mágiu a démonológiu\, stredouerópske kontexty ľudovej kultúry a vizuálnu antropológiu. Vyštudovala odbor etnológia – história na Filozofickej fakulte Univerzity Komenského v Bratislave. Pracovala nielen na svojej alma mater\, ale aj na ďalších univerzitách. Absolvovala viacero vedeckých stáží na európskych univerzitách\, pracovala ako kurátorka a literárna historička v Múzeu mesta Bratislava aj ako odborná vedecká pracovníčka v Divadelnom ústave v Bratislave. V súčasnosti pôsobí ako odborná pracovníčka v samospráve\, venuje sa historickému poradenstvu pre oblasť masmédií a filmu\, prednáša na viacerých univerzitách na Slovensku i v zahraničí. Je autorkou viacerých monografií\, vedeckých štúdií a popularizačných článkov\, a tiež spoluautorkou etnologických filmových dokumentov.
URL:https://www.robotnickydom.sk/podujatia/katarina-nadaska-lubostna-magia-banska-bystrica/
LOCATION:Robotnícky dom\, Robotnícka 3\, Banská Bystrica\, 97401\, Slovenská republika
ATTACH;FMTTYPE=image/jpeg:https://www.robotnickydom.sk/wp-content/uploads/2026/03/banner_bez_popisu_Banska_Bystrica.jpg
END:VEVENT
END:VCALENDAR