BEGIN:VCALENDAR
VERSION:2.0
PRODID:-//Robotnícky Dom - ECPv6.0.13.1//NONSGML v1.0//EN
CALSCALE:GREGORIAN
METHOD:PUBLISH
X-WR-CALNAME:Robotnícky Dom
X-ORIGINAL-URL:https://www.robotnickydom.sk
X-WR-CALDESC:Events for Robotnícky Dom
REFRESH-INTERVAL;VALUE=DURATION:PT1H
X-Robots-Tag:noindex
X-PUBLISHED-TTL:PT1H
BEGIN:VTIMEZONE
TZID:Europe/Bratislava
BEGIN:DAYLIGHT
TZOFFSETFROM:+0100
TZOFFSETTO:+0200
TZNAME:CEST
DTSTART:20260329T010000
END:DAYLIGHT
BEGIN:STANDARD
TZOFFSETFROM:+0200
TZOFFSETTO:+0100
TZNAME:CET
DTSTART:20261025T010000
END:STANDARD
END:VTIMEZONE
BEGIN:VEVENT
DTSTART;TZID=Europe/Bratislava:20260419T090000
DTEND;TZID=Europe/Bratislava:20260419T160000
DTSTAMP:20260425T184331
CREATED:20260407T071532Z
LAST-MODIFIED:20260407T071533Z
UID:3548-1776589200-1776614400@www.robotnickydom.sk
SUMMARY:MAJSTROVSTVÁ SLOVENSKA
DESCRIPTION:Hľadáte spojenie energie\, rytmu a talentu? Pozývame vás na Majstrovstvá Slovenska\, ktoré sa uskutočnia v srdci stredného Slovenska!  \n\n\n\nPríďte si vychutnať jedinečnú atmosféru tanečnej súťaže v disciplínach DCC videoclipdancing\, streetstyle a battle. Podujatie organizuje SUTTS v spolupráci s Mestom Banská Bystrica a POUS STUDIO.  \n\n\n\nDátum: 19. 04. 2026  \n\n\n\nČas: od 9:00 hod.  \n\n\n\nMiesto: Robotnícky dom\, Robotnícka 3\, Banská Bystrica \n\n\n\nDospelí: 8 € / Deti do 15 rokov: 6 € / Deti do 6 rokov: zadarmo \n\n\n\nNenechajte si ujsť najlepšie tanečné výkony sezóny! Či už ste fanúšikom streetstyleu alebo vás fascinujú prepracované choreografie videoclipdancingu\, v Robotníckom dome na vás čaká nezabudnuteľný zážitok.
URL:https://www.robotnickydom.sk/podujatia/majstrovstva-slovenska/
LOCATION:Robotnícky dom\, Robotnícka 3\, Banská Bystrica\, 97401\, Slovenská republika
ATTACH;FMTTYPE=image/jpeg:https://www.robotnickydom.sk/wp-content/uploads/2026/04/Gemini_Generated_Image_t2m14zt2m14zt2m1.jpg
END:VEVENT
END:VCALENDAR