BEGIN:VCALENDAR
VERSION:2.0
PRODID:-//Robotnícky Dom - ECPv6.0.13.1//NONSGML v1.0//EN
CALSCALE:GREGORIAN
METHOD:PUBLISH
X-WR-CALNAME:Robotnícky Dom
X-ORIGINAL-URL:https://www.robotnickydom.sk
X-WR-CALDESC:Events for Robotnícky Dom
REFRESH-INTERVAL;VALUE=DURATION:PT1H
X-Robots-Tag:noindex
X-PUBLISHED-TTL:PT1H
BEGIN:VTIMEZONE
TZID:Europe/Bratislava
BEGIN:DAYLIGHT
TZOFFSETFROM:+0100
TZOFFSETTO:+0200
TZNAME:CEST
DTSTART:20260329T010000
END:DAYLIGHT
BEGIN:STANDARD
TZOFFSETFROM:+0200
TZOFFSETTO:+0100
TZNAME:CET
DTSTART:20261025T010000
END:STANDARD
END:VTIMEZONE
BEGIN:VEVENT
DTSTART;TZID=Europe/Bratislava:20260312T180000
DTEND;TZID=Europe/Bratislava:20260410T200000
DTSTAMP:20260425T200158
CREATED:20260219T100046Z
LAST-MODIFIED:20260219T124948Z
UID:3439-1773338400-1775851200@www.robotnickydom.sk
SUMMARY:65. BANSKOBYSTRICKÁ HUDOBNÁ JAR
DESCRIPTION:Najstarší hudobný festival v meste zameriavajúci sa primárne na diela klasickej hudby prinesie počas marca a apríla štyri atraktívne hudobné produkcie. Hoci ide o tradičné podujatie\, nebojí sa prinášať moderné prvky a lákať aj mladšieho diváka. \n\n\n\n\n \n\n\n\n„Počas svojej dlhoročnej existencie zaznamenáva BBHJ pozitívny generačný posun publika. Vďaka systematickému oslovovaniu mladých divákov sa postupne rozširuje konzervatívna časť publika aj o mladšiu generáciu\, ktorá kontinuálne prerastá do novej diváckej základne. To nás veľmi teší a tiež nám to dáva možnosť inovovať jeho pôvodnú klasickú koncepciu aj do priestoru kreatívnej multižánrovosti\,“ uviedla dramaturgička podujatia Katarína Hulinová z Kultúrneho centra Robotnícky dom. \n\n\n\nFestival je interpretačne orientovaný na prezentáciu hudobného umenia prostredníctvom významných osobností a komorných súborov aj s medzinárodným renomé. Programovo a dramaturgicky BBHJ zahŕňa diela európskej hudobnej proveniencie\, rôznych žánrov a štýlových období. Neprehliadnuteľným zámerom festivalu nie je len prirodzené spestrenie kultúrneho života\, ale predovšetkým využitie nevyčerpateľného archívneho bohatstva hudby. Vďaka historickým obmenám a dramaturgickému výberu si BBHJ zachováva atraktívnosť každého festivalového podujatia. \n\n\n\nBanskobystrická hudobná jar prežila dodnes a za roky svojho pôsobenia uskutočnila stovky koncertov\, privítala mnohých domácich aj zahraničných umelcov a priniesla stovky diel svetovej klasickej hudby. Festival sa ale do dôchodku určite nepoberá\, práve naopak. Organizátori neustále rozširujú pole jeho pôsobnosti a tento rok si pre návštevníkov pripravili nasledujúce koncerty: \n\n\n\n \n\n\n\n\n\n \n\n\n\nPROGRAM: \n\n\n\n\n12. marca 2026 / 18.00 / Robotnícky domAjna Marosz a Hilaris Chamber OrchestraÚvodný koncert BBHJ bude patriť Hilaris Chamber Orchestra z Bratislavy s dirigentom Alanom Vizvárym. Sólistkou bude flautistka Ajna Marosz zo Žiliny.  \n\n\n\nViac info  \n\n\n\n\n \n\n\n\n\n19. marca 2026 / 18.00 / Robotnícky domAlma RoséUmeleckú multižánrovosť BBHJ bude reprezentovať český hudobno-dramatický divadelný projekt s tematikou šoa – holokaustu. \n\n\n\nViac info \n\n\n\n\n \n\n\n\n\n24. marca 2026 / 18.00 / Robotnícky domV rytme cimbalových paličiekKvinteto špičkových inštrumentalistov\, so sólistom v hre na cimbale Mykhaylom Zakhariyom\, ukrajinským rodákom\, prinesie na festival hudbu rôznych žánrov. \n\n\n\nViac info  \n\n\n\n\n \n\n\n\n\n10. apríla 2026 / 18.00 / Robotnícky domCello Republic (cz)Záver festivalu bude patriť medzinárodne etablovanému kvartetu českých violončelistov s názvom Cello Republic (Petr Špaček\, Jan Zemen\, Matěj Štěpánek\, Ivan Vokáč)\, symbolom pospolitosti\, spolupráce a rovnoprávnosti. \n\n\n\nViac info
URL:https://www.robotnickydom.sk/podujatia/65-banskobystricka-hudobna-jar/
LOCATION:Mesto Banská Bystrica
ATTACH;FMTTYPE=image/jpeg:https://www.robotnickydom.sk/wp-content/uploads/2026/02/ticket-live-400x400px.jpg
END:VEVENT
BEGIN:VEVENT
DTSTART;TZID=Europe/Bratislava:20260316T190000
DTEND;TZID=Europe/Bratislava:20260316T210000
DTSTAMP:20260425T200158
CREATED:20251117T074416Z
LAST-MODIFIED:20251117T095130Z
UID:3257-1773687600-1773694800@www.robotnickydom.sk
SUMMARY:DANIEL HŮLKA: RECITÁL 2
DESCRIPTION:Nezabudnuteľný hudobný zážitok s jednou z najvýraznejších osobností českej hudobnej scény – Danielom Hůlkom. Nechajte sa unášať jeho nezameniteľným hlasom a prežite spolu s ním spomienky na veľké muzikálové úlohy\, ktoré sa zapísali do sŕdc divákov. \n\n\n\nPozitívna atmosféra\, ktorá sa nesie celým večerom\, pomáha zabudnúť na starosti všedných dní. Za sprievodu talentovaných\, spievajúcich multiinštrumentalistov Veroniky Tölg Savincovej a Jiřího Březíka si pripomeniete Danielove najväčšie hity\, ale aj dávno zabudnuté piesne či duety z obľúbených muzikálov\, akými sú Dracula alebo Monte Cristo.Recitály Daniela Hůlku majú dve verzie: Recitál 1 a Recitál 2\, pričom každá verzia ponúka odlišný repertoár.
URL:https://www.robotnickydom.sk/podujatia/daniel-hulka-recital-2/
LOCATION:Robotnícky dom\, Robotnícka 3\, Banská Bystrica\, 97401\, Slovenská republika
ATTACH;FMTTYPE=image/jpeg:https://www.robotnickydom.sk/wp-content/uploads/2025/11/daniel-hulka-2-2025-600x600px.jpg
END:VEVENT
END:VCALENDAR