BEGIN:VCALENDAR
VERSION:2.0
PRODID:-//Robotnícky Dom - ECPv6.0.13.1//NONSGML v1.0//EN
CALSCALE:GREGORIAN
METHOD:PUBLISH
X-WR-CALNAME:Robotnícky Dom
X-ORIGINAL-URL:https://www.robotnickydom.sk
X-WR-CALDESC:Events for Robotnícky Dom
REFRESH-INTERVAL;VALUE=DURATION:PT1H
X-Robots-Tag:noindex
X-PUBLISHED-TTL:PT1H
BEGIN:VTIMEZONE
TZID:Europe/Bratislava
BEGIN:DAYLIGHT
TZOFFSETFROM:+0100
TZOFFSETTO:+0200
TZNAME:CEST
DTSTART:20260329T010000
END:DAYLIGHT
BEGIN:STANDARD
TZOFFSETFROM:+0200
TZOFFSETTO:+0100
TZNAME:CET
DTSTART:20261025T010000
END:STANDARD
END:VTIMEZONE
BEGIN:VEVENT
DTSTART;TZID=Europe/Bratislava:20260227T190000
DTEND;TZID=Europe/Bratislava:20260227T203000
DTSTAMP:20260425T200814
CREATED:20251219T125207Z
LAST-MODIFIED:20260225T104134Z
UID:3393-1772218800-1772224200@www.robotnickydom.sk
SUMMARY:POPLACH V HOTELI WESTMINSTER
DESCRIPTION:Poplach v  hoteli Westminster \n\n\n\nPoslanec britského parlamentu Richard Willey\, ubytovaný so svojou manželkou v hoteli Westminster\, chce v tom istom hoteli uskutočniť svoje prvé\, milenecké stretnutie so sekretárkou z opozície Jennifer Bristowovou. Všetko má výborne naplánované\, avšak všetko sa zvrtne v momente\, keď mu jeho asistent objedná tú najnevhodnejšiu izbu a vytvorí základ pre jedno z najzábavnejších nedorozumení v histórii divadla! \n\n\n\nRay Cooney je jedným z najúspešnejších britských dramatikov modernej éry a nesporným kráľom komédii. Pri hre Poplach v hoteli Westminster sa budete smiať od začiatku do konca a ešte aj po ceste domov! A možno aj na druhý deň. A možno aj… \n\n\n\nAutor: Ray CooneyPreklad : Alexandra RuppeldtováRéžia: Roman HargašScénografia: Zuzana Malcová\, Eva Hargašová \n\n\n\nHerecké obsadenie \n\n\n\n\nGeorge: Oliver Ruttkay\n\n\n\nRichard: Roman Hargaš\n\n\n\nPamela: Frederika Burzová\n\n\n\nEdward: Patrik Masár\n\n\n\nLily: Jana Heveryová\n\n\n\nJennifer: Eliška Panáčková\n\n\n\nRiaditeľ: Juraj Saukulič\n\n\n\nČašník: Peter Podhorský/Matej Patyla\n\n\n\nRecepčná: Karolína Gáliková/ Amália Bačová/ Veronika Vojtková\n\n\n\nMária: Karolína Gáliková/ Amália Bačová/Veronika Vojtková\n\n\n\n\nDĺžka predstavenia: 90 minút Vhodné od 12 rokov 
URL:https://www.robotnickydom.sk/podujatia/poplach-v-hoteli-westminster/
LOCATION:Robotnícky dom\, Robotnícka 3\, Banská Bystrica\, 97401\, Slovenská republika
ATTACH;FMTTYPE=image/jpeg:https://www.robotnickydom.sk/wp-content/uploads/2025/12/600x600px-poplach-v-hoteli-.-27.2.2026.jpg
END:VEVENT
END:VCALENDAR