BEGIN:VCALENDAR
VERSION:2.0
PRODID:-//Robotnícky Dom - ECPv6.0.13.1//NONSGML v1.0//EN
CALSCALE:GREGORIAN
METHOD:PUBLISH
X-ORIGINAL-URL:https://www.robotnickydom.sk
X-WR-CALDESC:Events for Robotnícky Dom
REFRESH-INTERVAL;VALUE=DURATION:PT1H
X-Robots-Tag:noindex
X-PUBLISHED-TTL:PT1H
BEGIN:VTIMEZONE
TZID:Europe/Bratislava
BEGIN:DAYLIGHT
TZOFFSETFROM:+0100
TZOFFSETTO:+0200
TZNAME:CEST
DTSTART:20260329T010000
END:DAYLIGHT
BEGIN:STANDARD
TZOFFSETFROM:+0200
TZOFFSETTO:+0100
TZNAME:CET
DTSTART:20261025T010000
END:STANDARD
END:VTIMEZONE
BEGIN:VEVENT
DTSTART;TZID=Europe/Bratislava:20260223T100000
DTEND;TZID=Europe/Bratislava:20260224T100000
DTSTAMP:20260425T200911
CREATED:20260204T140839Z
LAST-MODIFIED:20260205T085617Z
UID:3422-1771840800-1771927200@www.robotnickydom.sk
SUMMARY:JARNÉ TVORIVÉ DIELNE
DESCRIPTION:\,\, Plstíme pre radosť\,\, \n\n\n\nPonorme ruky do mäkkej vlny\, spomaľme a nechajme vzniknúť malé zázraky. Každý kúsok bude originál. Nezáleží na tom\, či plstíte prvýkrát alebo máte už skúsenosti – tu je priestor pre radosť z tvorenia\, hravosť a vlastný rytmus.
URL:https://www.robotnickydom.sk/podujatia/jarne-tvorive-dielne/
LOCATION:Robotnícky dom\, Robotnícka 3\, Banská Bystrica\, 97401\, Slovenská republika
ATTACH;FMTTYPE=image/jpeg:https://www.robotnickydom.sk/wp-content/uploads/2026/02/Jarne-Tvorive-dielne-600x600px-2026.jpg
END:VEVENT
END:VCALENDAR