BEGIN:VCALENDAR
VERSION:2.0
PRODID:-//Robotnícky Dom - ECPv6.0.13.1//NONSGML v1.0//EN
CALSCALE:GREGORIAN
METHOD:PUBLISH
X-ORIGINAL-URL:https://www.robotnickydom.sk
X-WR-CALDESC:Events for Robotnícky Dom
REFRESH-INTERVAL;VALUE=DURATION:PT1H
X-Robots-Tag:noindex
X-PUBLISHED-TTL:PT1H
BEGIN:VTIMEZONE
TZID:Europe/Bratislava
BEGIN:DAYLIGHT
TZOFFSETFROM:+0100
TZOFFSETTO:+0200
TZNAME:CEST
DTSTART:20260329T010000
END:DAYLIGHT
BEGIN:STANDARD
TZOFFSETFROM:+0200
TZOFFSETTO:+0100
TZNAME:CET
DTSTART:20261025T010000
END:STANDARD
END:VTIMEZONE
BEGIN:VEVENT
DTSTART;TZID=Europe/Bratislava:20260217T160000
DTEND;TZID=Europe/Bratislava:20260217T200000
DTSTAMP:20260425T213426
CREATED:20260128T104058Z
LAST-MODIFIED:20260202T072721Z
UID:3415-1771344000-1771358400@www.robotnickydom.sk
SUMMARY:FAŠIANGY V MESTE
DESCRIPTION:16:00 – 17:00 h | FAŠIANGOVÉ MASKY \n\n\n\ntvorivá dielňa pre deti – výroba tradičných masiek \n\n\n\nmiesto: Radnica\, Nnámestie SNP 1 \n\n\n\n17:00 h | BURSA IDE MESTOM \n\n\n\nfašiangový sprievod v maskách \n\n\n\núčinkujú: FS Urpín a DFS Radosť z Banskej Bystrice \n\n\n\ntrasa: Dolná ulica →  Námestie SNP \n\n\n\n19.00 h | PIESNE MOJE\, PIESNE \n\n\n\nkoncert  žartovných a lascívnych piesní \n\n\n\nmiesto: Robotnícky dom\, Robotnícka 3\, Banská Bystrica \n\n\n\núčinkujú spevácke skupiny: \n\n\n\nTrnki\, Hojana\, Hronky\, Horehronci\, Mladosť z Banskej Bystrice  \n\n\n\nKmotry z Detvy\, ĽH Pokošovci zo Šumiaca\, Ivan Slávik z Kysáča \n\n\n\nvstupné: 10 € \n\n\n\npredpredaj vstupeniek: Kaviareň a galária Korzo\, Stredoslovenské osvetové stredisko\, Dolná 35\, Banská Bystrica
URL:https://www.robotnickydom.sk/podujatia/fasiangy-v-meste-4/
LOCATION:Námestie SNP\, Námestie SNP\, Banská Bystrica\, 97401\, Slovenská republika
ATTACH;FMTTYPE=image/jpeg:https://www.robotnickydom.sk/wp-content/uploads/2026/01/600x600-fasiangy-2026.jpg
END:VEVENT
END:VCALENDAR