BEGIN:VCALENDAR
VERSION:2.0
PRODID:-//Robotnícky Dom - ECPv6.0.13.1//NONSGML v1.0//EN
CALSCALE:GREGORIAN
METHOD:PUBLISH
X-ORIGINAL-URL:https://www.robotnickydom.sk
X-WR-CALDESC:Events for Robotnícky Dom
REFRESH-INTERVAL;VALUE=DURATION:PT1H
X-Robots-Tag:noindex
X-PUBLISHED-TTL:PT1H
BEGIN:VTIMEZONE
TZID:Europe/Bratislava
BEGIN:DAYLIGHT
TZOFFSETFROM:+0100
TZOFFSETTO:+0200
TZNAME:CEST
DTSTART:20260329T010000
END:DAYLIGHT
BEGIN:STANDARD
TZOFFSETFROM:+0200
TZOFFSETTO:+0100
TZNAME:CET
DTSTART:20261025T010000
END:STANDARD
END:VTIMEZONE
BEGIN:VEVENT
DTSTART;TZID=Europe/Bratislava:20260215T170000
DTEND;TZID=Europe/Bratislava:20260215T210000
DTSTAMP:20260425T213432
CREATED:20260126T142012Z
LAST-MODIFIED:20260202T122029Z
UID:3410-1771174800-1771189200@www.robotnickydom.sk
SUMMARY:ČAJ O PIATEJ
DESCRIPTION:Mesto Banská Bystrica pozýva na obľúbenú hudobno – tanečnú zábavu Čaj o piatej\, ktorá sa uskutoční v nedeľu 15.2.2026 o 17.00 hod. v Robotníckom dome. O zábavu sa postará skupina Durexx. \n\n\n\nVstupné je 4 eurá. Vstupenky sú k dispozícii v Turistickom informačnom centre na Námestí SNP 1 alebo v sieti spoločnosti ticketlive.
URL:https://www.robotnickydom.sk/podujatia/caj-o-piatej-8/
LOCATION:Robotnícky dom\, Robotnícka 3\, Banská Bystrica\, 97401\, Slovenská republika
ATTACH;FMTTYPE=image/jpeg:https://www.robotnickydom.sk/wp-content/uploads/2026/01/caj-o-piatej-600x600px-15.2.2026.jpg
END:VEVENT
END:VCALENDAR