BEGIN:VCALENDAR
VERSION:2.0
PRODID:-//Robotnícky Dom - ECPv6.0.13.1//NONSGML v1.0//EN
CALSCALE:GREGORIAN
METHOD:PUBLISH
X-ORIGINAL-URL:https://www.robotnickydom.sk
X-WR-CALDESC:Events for Robotnícky Dom
REFRESH-INTERVAL;VALUE=DURATION:PT1H
X-Robots-Tag:noindex
X-PUBLISHED-TTL:PT1H
BEGIN:VTIMEZONE
TZID:Europe/Bratislava
BEGIN:DAYLIGHT
TZOFFSETFROM:+0100
TZOFFSETTO:+0200
TZNAME:CEST
DTSTART:20260329T010000
END:DAYLIGHT
BEGIN:STANDARD
TZOFFSETFROM:+0200
TZOFFSETTO:+0100
TZNAME:CET
DTSTART:20261025T010000
END:STANDARD
END:VTIMEZONE
BEGIN:VEVENT
DTSTART;TZID=Europe/Bratislava:20260117T190000
DTEND;TZID=Europe/Bratislava:20260117T210000
DTSTAMP:20260425T225940
CREATED:20251222T082054Z
LAST-MODIFIED:20251222T082054Z
UID:3402-1768676400-1768683600@www.robotnickydom.sk
SUMMARY:FERMATA 50+ ANNIVERSARY TOUR
DESCRIPTION:Jeseň 2024 pripravila v živote skupiny Fermata a jej hlavného protagonistu Fera Grigláka hneď niekoľko hneď niekoľko významných udalostí. Na pulty kníhkupectiev sa dostala nová knižná monografia o kapele a po vyše tridsiatich rokoch sa opätovného vydania dočkali aj známe albumy Simile a Real Time\, ktoré v prvej polovici deväťdesiatych rokov otvorili ďalšiu etapu v živote skupiny. Fermata sa však uplynulú jeseň po štyroch rokoch vrátila na koncertné pódiá a v desiatich slovenských mestách odohrala sériu mimoriadne úspešných koncertov s veľkým ohlasom svojich fanúšikov. \n\n\n\nPo roku sa Fermata opäť vydáva na turné\, na ktorom pokračuje v pripomienke piatich dekád existencie skupiny. Fanúšikovia sa tak môžu tešiť nielen na najznámejšie skladby z albumov Huascaran\, Simile alebo Blumental blues.Na pódiu sa predstaví výnimočná zostava Fermaty – hráč na klávesové nástroje Matej „Maxo“ Mikloš\, basgitarista Tamás Belicza a špeciálnym hosťom sa počas turné stane prvotriedny inštrumentalista a bubeník Martin Valihora.Turné skupiny Fermata 50+ Anniversary Tour 2025 podporil z verejných zdrojov Fond na podporu umenia a Sociálny a kultúrny fond SOZA.
URL:https://www.robotnickydom.sk/podujatia/fermata-50-anniversary-tour/
LOCATION:Robotnícky dom\, Robotnícka 3\, Banská Bystrica\, 97401\, Slovenská republika
ATTACH;FMTTYPE=image/jpeg:https://www.robotnickydom.sk/wp-content/uploads/2025/12/Fermata-stvorec1.jpg
END:VEVENT
END:VCALENDAR