BEGIN:VCALENDAR
VERSION:2.0
PRODID:-//Robotnícky Dom - ECPv6.0.13.1//NONSGML v1.0//EN
CALSCALE:GREGORIAN
METHOD:PUBLISH
X-WR-CALNAME:Robotnícky Dom
X-ORIGINAL-URL:https://www.robotnickydom.sk
X-WR-CALDESC:Events for Robotnícky Dom
REFRESH-INTERVAL;VALUE=DURATION:PT1H
X-Robots-Tag:noindex
X-PUBLISHED-TTL:PT1H
BEGIN:VTIMEZONE
TZID:Europe/Bratislava
BEGIN:DAYLIGHT
TZOFFSETFROM:+0100
TZOFFSETTO:+0200
TZNAME:CEST
DTSTART:20250330T010000
END:DAYLIGHT
BEGIN:STANDARD
TZOFFSETFROM:+0200
TZOFFSETTO:+0100
TZNAME:CET
DTSTART:20251026T010000
END:STANDARD
BEGIN:DAYLIGHT
TZOFFSETFROM:+0100
TZOFFSETTO:+0200
TZNAME:CEST
DTSTART:20260329T010000
END:DAYLIGHT
BEGIN:STANDARD
TZOFFSETFROM:+0200
TZOFFSETTO:+0100
TZNAME:CET
DTSTART:20261025T010000
END:STANDARD
END:VTIMEZONE
BEGIN:VEVENT
DTSTART;TZID=Europe/Bratislava:20251128T080000
DTEND;TZID=Europe/Bratislava:20260101T220000
DTSTAMP:20260425T225112
CREATED:20251120T092122Z
LAST-MODIFIED:20251121T133535Z
UID:3279-1764316800-1767304800@www.robotnickydom.sk
SUMMARY:BANSKOBYSTRICKÉ VIANOCE
DESCRIPTION:Kultúrny program Banskobystrických Vianoc odštartujeme 28. novembra o 17:00 hod. vystúpením Martina Vetráka a Vojenskej hudby Banská Bystrica. Najmenší budú môcť navštíviť  vianočné tvorivé dielne v priestoroch radnice od 17:00 hod. do 19:00 hod. a vyskúšať si obľúbené vedecké hračky. \n\n\n\nNásledne sa môžeme tešiť na žilinskú rockovú kapelu AYA\, folk-rockovú kapelu P. O. H či skupinu Gladiátor. Na návštevníkov čakajú  svetové vianočné melódie v podaní banskobystrickej jazzovo-swingovej kapely Patrície Šuráňovej – Karvašovej a BB Band\, vystúpenia folklórnych súborov a  skupín\, vianočný koncert slovenskej populárnej speváčky Veroniky Rabada s kapelou a mnoho iných. Adventné obdobie ukončíme živým betlehemom na nádvorí Barbakánu v podaní spoločnosti veselých šermiarov Cassanova. \n\n\n\nBanská Bystrica si v tomto roku pripomína 770. výročie udelenia mestských výsad. V duchu tohto významného jubilea sme mohli prežiť Dni mestskej kultúry či Radvanský jarmok. Z iniciatívy kresťanov nášho mesta bude predvianočný čas patriť aj ekumenickým modlitbám v Kostole nanebovzatia Panny Márie 4.decembra 2025 o 17:30 hod. O hudobný sprievod sa postará banskobystrický zbor Ars Vocalis a Banskobystrický detský spevácky zbor zo ZUŠ J. Cikkera. \n\n\n\nZvonička prianí je povinnou zastávkou každého\, kto sa vyberie na prechádzku vianočnými trhmi. Tento rok bude umiestnená v lokalite pri Barbakáne. Aj drevený betlehem na nádvorí Barbakánu sa za posledné roky stal vyhľadávaným miestom a symbolom Banskobystrických Vianoc.  O výrobu drevenej maštale sa každoročne stará Jaroslav Pásler a o jednotlivé plastiky v betleheme majster rezbár Peter Zoričák.  K svätej rodine s anjelom a trom kráľom tento rok pribudnú plastiky z  lipového dreva vyobrazujúce  dievča a chlapca\, ktorí nesú dary Ježiškovi. Inštalácia a symbolické otvorenie betlehemu sa uskutoční v nedeľu 14. decembra. Pozývame všetkých na Betlehemskú hru v podaní Združenia autentického folklóru Pohronci. \n\n\n\nNa Silvestra (31. decembra) sa budeme môcť na Námestí SNP rozlúčiť so starým rokom v sprievode kapely Hudba z Marsu a DJského dua Malalata. O program počas vítania Nového roka a osláv Dňa vzniku Slovenskej republiky sa postará Lukáš Adamec s kapelou. Vyvrcholením bude pyromuzikálna šou\, ktorá každoročne láka do centra Banskej Bystrice stovky rodín s deťmi. V utorok 6. januára 2026 privítajú ulice mesta nadšencov behu v rámci tradičného Trojkráľového večerného behu.
URL:https://www.robotnickydom.sk/podujatia/banskobystricke-vianoce/
ATTACH;FMTTYPE=image/jpeg:https://www.robotnickydom.sk/wp-content/uploads/2025/11/BB-vianoce-2025.jpg
END:VEVENT
BEGIN:VEVENT
DTSTART;TZID=Europe/Bratislava:20251231T230000
DTEND;TZID=Europe/Bratislava:20260101T013000
DTSTAMP:20260425T225112
CREATED:20251215T080543Z
LAST-MODIFIED:20251215T090436Z
UID:3332-1767222000-1767231000@www.robotnickydom.sk
SUMMARY:SILVESTER 2025
DESCRIPTION:Silvestrovský program začne na Námestí SNP o 23:00 h koncertom slovenskej hudobnej skupiny  Hudba z Marsu.Pomocou veľkoplošnej obrazovky odpočítame posledné sekundy starého roka a po polnoci bude s hudobnou produkciou pokračovať Slovenské DJské duo Malalata\, ktoré bude zabávať banskobystričanky a banskobystričanou energickou a pozitívnou hudbou z Balkánu. \n\n\n\nProgram potrvá od 23:00 do zhruba 1:30 hod. \n\n\n\nNa bezpečnosť a nerušený chod silvestrovskej noci budú dohliadať posilnené hliadky mestskej polície spolu s dobrovoľnými hasičmi a zdravotníkmi.
URL:https://www.robotnickydom.sk/podujatia/silvester-2025/
LOCATION:Námestie SNP\, Námestie SNP\, Banská Bystrica\, 97401\, Slovenská republika
ATTACH;FMTTYPE=image/jpeg:https://www.robotnickydom.sk/wp-content/uploads/2025/12/600x600px-web-RD-silvester-2025.jpg
END:VEVENT
BEGIN:VEVENT
DTSTART;TZID=Europe/Bratislava:20260101T160000
DTEND;TZID=Europe/Bratislava:20260101T173000
DTSTAMP:20260425T225112
CREATED:20251212T100706Z
LAST-MODIFIED:20251212T100707Z
UID:3326-1767283200-1767288600@www.robotnickydom.sk
SUMMARY:NOVOROČNÁ PYROMUZIKÁLNA SHOW 
DESCRIPTION:Začnite nový rok zážitkom\, ktorý rozprúdi krv v žilách a pohladí zmysly! Mesto Banská Bystrica vás srdečne pozýva na tradičné novoročné oslavy\, kde spoločne oslávime nielen príchod roka 2026\, ale aj Deň vzniku Slovenskej republiky. \n\n\n\nPo bujarých silvestrovských oslavách prichádza čas na kultúrny zážitok pre celé rodiny. Príďte si vychutnať jedinečnú atmosféru na Námestie SNP\, kde sa história spája s modernou vizuálnou show. \n\n\n\n🎸 Hudobný štart s Lukášom Adamcom\n\n\n\nProgram odštartujeme o 16.00 h poriadnou dávkou energie. Na pódium sa postaví charizmatický Lukáš Adamec s kapelou. Tešiť sa môžete na jeho nezameniteľný hlas\, známe hity a skvelú náladu\, ktorá vás zaručene zahreje aj v zimnom počasí. Je to ideálny spôsob\, ako sa naladiť na vyvrcholenie večera. Presne o 17.00 h ovládne námestie hra svetla\, ohňa a hudby.
URL:https://www.robotnickydom.sk/podujatia/novorocna-pyromuzikalna-show-2/
LOCATION:Námestie SNP\, Námestie SNP\, Banská Bystrica\, 97401\, Slovenská republika
ATTACH;FMTTYPE=image/jpeg:https://www.robotnickydom.sk/wp-content/uploads/2025/12/600x600-novorocna-pyromuzik.show2026.jpg
END:VEVENT
END:VCALENDAR