BEGIN:VCALENDAR
VERSION:2.0
PRODID:-//Robotnícky Dom - ECPv6.0.13.1//NONSGML v1.0//EN
CALSCALE:GREGORIAN
METHOD:PUBLISH
X-WR-CALNAME:Robotnícky Dom
X-ORIGINAL-URL:https://www.robotnickydom.sk
X-WR-CALDESC:Events for Robotnícky Dom
REFRESH-INTERVAL;VALUE=DURATION:PT1H
X-Robots-Tag:noindex
X-PUBLISHED-TTL:PT1H
BEGIN:VTIMEZONE
TZID:Europe/Bratislava
BEGIN:DAYLIGHT
TZOFFSETFROM:+0100
TZOFFSETTO:+0200
TZNAME:CEST
DTSTART:20250330T010000
END:DAYLIGHT
BEGIN:STANDARD
TZOFFSETFROM:+0200
TZOFFSETTO:+0100
TZNAME:CET
DTSTART:20251026T010000
END:STANDARD
BEGIN:DAYLIGHT
TZOFFSETFROM:+0100
TZOFFSETTO:+0200
TZNAME:CEST
DTSTART:20260329T010000
END:DAYLIGHT
BEGIN:STANDARD
TZOFFSETFROM:+0200
TZOFFSETTO:+0100
TZNAME:CET
DTSTART:20261025T010000
END:STANDARD
END:VTIMEZONE
BEGIN:VEVENT
DTSTART;TZID=Europe/Bratislava:20251128T080000
DTEND;TZID=Europe/Bratislava:20260101T220000
DTSTAMP:20260426T014156
CREATED:20251120T092122Z
LAST-MODIFIED:20251121T133535Z
UID:3279-1764316800-1767304800@www.robotnickydom.sk
SUMMARY:BANSKOBYSTRICKÉ VIANOCE
DESCRIPTION:Kultúrny program Banskobystrických Vianoc odštartujeme 28. novembra o 17:00 hod. vystúpením Martina Vetráka a Vojenskej hudby Banská Bystrica. Najmenší budú môcť navštíviť  vianočné tvorivé dielne v priestoroch radnice od 17:00 hod. do 19:00 hod. a vyskúšať si obľúbené vedecké hračky. \n\n\n\nNásledne sa môžeme tešiť na žilinskú rockovú kapelu AYA\, folk-rockovú kapelu P. O. H či skupinu Gladiátor. Na návštevníkov čakajú  svetové vianočné melódie v podaní banskobystrickej jazzovo-swingovej kapely Patrície Šuráňovej – Karvašovej a BB Band\, vystúpenia folklórnych súborov a  skupín\, vianočný koncert slovenskej populárnej speváčky Veroniky Rabada s kapelou a mnoho iných. Adventné obdobie ukončíme živým betlehemom na nádvorí Barbakánu v podaní spoločnosti veselých šermiarov Cassanova. \n\n\n\nBanská Bystrica si v tomto roku pripomína 770. výročie udelenia mestských výsad. V duchu tohto významného jubilea sme mohli prežiť Dni mestskej kultúry či Radvanský jarmok. Z iniciatívy kresťanov nášho mesta bude predvianočný čas patriť aj ekumenickým modlitbám v Kostole nanebovzatia Panny Márie 4.decembra 2025 o 17:30 hod. O hudobný sprievod sa postará banskobystrický zbor Ars Vocalis a Banskobystrický detský spevácky zbor zo ZUŠ J. Cikkera. \n\n\n\nZvonička prianí je povinnou zastávkou každého\, kto sa vyberie na prechádzku vianočnými trhmi. Tento rok bude umiestnená v lokalite pri Barbakáne. Aj drevený betlehem na nádvorí Barbakánu sa za posledné roky stal vyhľadávaným miestom a symbolom Banskobystrických Vianoc.  O výrobu drevenej maštale sa každoročne stará Jaroslav Pásler a o jednotlivé plastiky v betleheme majster rezbár Peter Zoričák.  K svätej rodine s anjelom a trom kráľom tento rok pribudnú plastiky z  lipového dreva vyobrazujúce  dievča a chlapca\, ktorí nesú dary Ježiškovi. Inštalácia a symbolické otvorenie betlehemu sa uskutoční v nedeľu 14. decembra. Pozývame všetkých na Betlehemskú hru v podaní Združenia autentického folklóru Pohronci. \n\n\n\nNa Silvestra (31. decembra) sa budeme môcť na Námestí SNP rozlúčiť so starým rokom v sprievode kapely Hudba z Marsu a DJského dua Malalata. O program počas vítania Nového roka a osláv Dňa vzniku Slovenskej republiky sa postará Lukáš Adamec s kapelou. Vyvrcholením bude pyromuzikálna šou\, ktorá každoročne láka do centra Banskej Bystrice stovky rodín s deťmi. V utorok 6. januára 2026 privítajú ulice mesta nadšencov behu v rámci tradičného Trojkráľového večerného behu.
URL:https://www.robotnickydom.sk/podujatia/banskobystricke-vianoce/
ATTACH;FMTTYPE=image/jpeg:https://www.robotnickydom.sk/wp-content/uploads/2025/11/BB-vianoce-2025.jpg
END:VEVENT
BEGIN:VEVENT
DTSTART;TZID=Europe/Bratislava:20251129T183000
DTEND;TZID=Europe/Bratislava:20251129T210000
DTSTAMP:20260426T014156
CREATED:20251106T081211Z
LAST-MODIFIED:20251110T085148Z
UID:3247-1764441000-1764450000@www.robotnickydom.sk
SUMMARY:ROBOTNÍCKY DOM Pevný bod politicko-kultúrneho života v Banskej Bystrici
DESCRIPTION:18:30 hod. / komentovaná prehliadka výstavy Robotnícky? Áno\, kultúrny! s autorom textu Filipom Glockom a autorom grafiky Patrikom Ševčíkom \n\n\n\n19:00 hod. / krst publikácie ROBOTNÍCKY DOM  \n\n\n\nPevný bod politicko-kultúrneho života v Banskej Bystrici \n\n\n\nmoderuje: Monika Pastuchová \n\n\n\n19:30 hod. / VEDOMOSTNÝ KVÍZ \n\n\n\nMáte radi výzvy a chcete si preveriť svoje vedomosti?Príďte sa zabaviť na kvíz do Robotníckeho domu a získajte zaujímavé ceny. \n\n\n\nSvoje tímy prihlasujte do 25.11.2025 na mail zuzana.kohutova@banskabystrica.sk \n\n\n\nRegistračný poplatok na jeden tím je 5 €\, maximálny počet členov v tíme je 5 osôb. \n\n\n\nPOČET TÍMOV JE OBMEDZENÝ.  \n\n\n\nHudobný hosť: Andy Lou. \n\n\n\nĎalšie z podujatí\, ktoré je organizované pri príležitosti 100. výročia Robotníckeho domu.
URL:https://www.robotnickydom.sk/podujatia/robotnicky-dom-pevny-bod-politicko-kulturneho-zivota-v-banskej-bystrici/
LOCATION:Robotnícky dom\, Robotnícka 3\, Banská Bystrica\, 97401\, Slovenská republika
ATTACH;FMTTYPE=image/jpeg:https://www.robotnickydom.sk/wp-content/uploads/2025/11/RD-26.11.2025-600x600px.jpg
END:VEVENT
END:VCALENDAR