BEGIN:VCALENDAR
VERSION:2.0
PRODID:-//Robotnícky Dom - ECPv6.0.13.1//NONSGML v1.0//EN
CALSCALE:GREGORIAN
METHOD:PUBLISH
X-WR-CALNAME:Robotnícky Dom
X-ORIGINAL-URL:https://www.robotnickydom.sk
X-WR-CALDESC:Events for Robotnícky Dom
REFRESH-INTERVAL;VALUE=DURATION:PT1H
X-Robots-Tag:noindex
X-PUBLISHED-TTL:PT1H
BEGIN:VTIMEZONE
TZID:Europe/Bratislava
BEGIN:DAYLIGHT
TZOFFSETFROM:+0100
TZOFFSETTO:+0200
TZNAME:CEST
DTSTART:20250330T010000
END:DAYLIGHT
BEGIN:STANDARD
TZOFFSETFROM:+0200
TZOFFSETTO:+0100
TZNAME:CET
DTSTART:20251026T010000
END:STANDARD
END:VTIMEZONE
BEGIN:VEVENT
DTSTART;TZID=Europe/Bratislava:20251123T170000
DTEND;TZID=Europe/Bratislava:20251123T200000
DTSTAMP:20260426T014156
CREATED:20251105T091136Z
LAST-MODIFIED:20251105T095212Z
UID:3235-1763917200-1763928000@www.robotnickydom.sk
SUMMARY:ČAJ O PIATEJ
DESCRIPTION:Mesto Banská Bystrica Vás pozýva na obľúbenú hudobno-tanečnú zábavu Čaj o piatej\, ktorá je tentokrát venovaná všetkým Katarínam a uskutoční sa v nedeľu 23. novembra v Robotníckom dome. O zábavu sa postará František Škoda so skupinou Excellence. \n\n\n\nKataríny majú vstup zdarma.
URL:https://www.robotnickydom.sk/podujatia/caj-o-piatej-7/
LOCATION:Robotnícky dom\, Robotnícka 3\, Banská Bystrica\, 97401\, Slovenská republika
ATTACH;FMTTYPE=image/jpeg:https://www.robotnickydom.sk/wp-content/uploads/2025/11/600x600-px-caj-o-piatej-katarinska-zabava-23.11.2025.jpg
END:VEVENT
BEGIN:VEVENT
DTSTART;TZID=Europe/Bratislava:20251123T173000
DTEND;TZID=Europe/Bratislava:20251123T200000
DTSTAMP:20260426T014156
CREATED:20251029T094335Z
LAST-MODIFIED:20251029T124927Z
UID:3197-1763919000-1763928000@www.robotnickydom.sk
SUMMARY:LAMPIÓNOVÝ SPRIEVOD
DESCRIPTION:Pozývame malých aj veľkých 23. novembra o 17:30 hod. na tradičný Lampiónový sprievod centrom mesta. Sprievod sa začne na parkovisku pri Múzeu SNP\, odkiaľ sa spoločne vydáme rozžiariť večerné ulice Banskej Bystrice. Konečná zastávka bude na Námestí SNP\, kde na všetkých bude čakať teplý čaj. \n\n\n\nObľúbený lampiónový sprievod centrom mesta v minulosti organizovala skupina nadšencov z prostredia Banskobystrického maratónu. Pred rokom sa stal lampiónový sprievod pevnou súčasťou kalendára mestských podujatí. V závere novembra môžeme spoločne osláviť už jeho 10. ročník. \n\n\n\nNezabudnite si so sebou priniesť lampióny\, úsmev na tvári a teplé oblečenie. \n\n\n\nTešíme sa na vás!
URL:https://www.robotnickydom.sk/podujatia/lampionovy-sprievod/
LOCATION:Námestie SNP\, Námestie SNP\, Banská Bystrica\, 97401\, Slovenská republika
ATTACH;FMTTYPE=image/jpeg:https://www.robotnickydom.sk/wp-content/uploads/2025/10/lampion-600x600px.jpg
END:VEVENT
END:VCALENDAR