BEGIN:VCALENDAR
VERSION:2.0
PRODID:-//Robotnícky Dom - ECPv6.0.13.1//NONSGML v1.0//EN
CALSCALE:GREGORIAN
METHOD:PUBLISH
X-ORIGINAL-URL:https://www.robotnickydom.sk
X-WR-CALDESC:Events for Robotnícky Dom
REFRESH-INTERVAL;VALUE=DURATION:PT1H
X-Robots-Tag:noindex
X-PUBLISHED-TTL:PT1H
BEGIN:VTIMEZONE
TZID:Europe/Bratislava
BEGIN:DAYLIGHT
TZOFFSETFROM:+0100
TZOFFSETTO:+0200
TZNAME:CEST
DTSTART:20250330T010000
END:DAYLIGHT
BEGIN:STANDARD
TZOFFSETFROM:+0200
TZOFFSETTO:+0100
TZNAME:CET
DTSTART:20251026T010000
END:STANDARD
END:VTIMEZONE
BEGIN:VEVENT
DTSTART;TZID=Europe/Bratislava:20251006T080000
DTEND;TZID=Europe/Bratislava:20251029T170000
DTSTAMP:20260426T014251
CREATED:20250929T112313Z
LAST-MODIFIED:20250929T112314Z
UID:3120-1759737600-1761757200@www.robotnickydom.sk
SUMMARY:AKADÉMIA EURÓPSKEHO SENIORA
DESCRIPTION:Počas októbra\, Mesiaca úcty k starším\, pripravujeme v našom meste viaceré podujatia v rámci Akadémie európskeho seniora. Pre skôr narodené obyvateľky a obyvatelia je pripravený bohatý program venovaný 770. výročiu udelenia mestských privilégií Banskej Bystrici. \n\n\n\nAES dňa 6. októbra vystúpia v Robotníckom dome Cigánski diabli. \n\n\n\nNa všetky pripravované podujatia je potrebné sa prihlásiť buď osobne v Klientskom centre mestského úradu\, alebo telefonicky na čísle 048/4330 777. \n\n\n\nSrdečne pozývame.
URL:https://www.robotnickydom.sk/podujatia/akademia-europskeho-seniora-3/
ATTACH;FMTTYPE=image/jpeg:https://www.robotnickydom.sk/wp-content/uploads/2025/09/600x600-aes-2025.jpg
END:VEVENT
END:VCALENDAR