BEGIN:VCALENDAR
VERSION:2.0
PRODID:-//Robotnícky Dom - ECPv6.0.13.1//NONSGML v1.0//EN
CALSCALE:GREGORIAN
METHOD:PUBLISH
X-WR-CALNAME:Robotnícky Dom
X-ORIGINAL-URL:https://www.robotnickydom.sk
X-WR-CALDESC:Events for Robotnícky Dom
REFRESH-INTERVAL;VALUE=DURATION:PT1H
X-Robots-Tag:noindex
X-PUBLISHED-TTL:PT1H
BEGIN:VTIMEZONE
TZID:Europe/Bratislava
BEGIN:DAYLIGHT
TZOFFSETFROM:+0100
TZOFFSETTO:+0200
TZNAME:CEST
DTSTART:20250330T010000
END:DAYLIGHT
BEGIN:STANDARD
TZOFFSETFROM:+0200
TZOFFSETTO:+0100
TZNAME:CET
DTSTART:20251026T010000
END:STANDARD
END:VTIMEZONE
BEGIN:VEVENT
DTSTART;TZID=Europe/Bratislava:20250926T190000
DTEND;TZID=Europe/Bratislava:20250926T210000
DTSTAMP:20260426T042006
CREATED:20250630T133833Z
LAST-MODIFIED:20250924T084136Z
UID:2976-1758913200-1758920400@www.robotnickydom.sk
SUMMARY:SMOKIE THE BEST TRIBUTE BAND ZRUŠENÉ
DESCRIPTION:Skupina Smokie The Best Tribute Band je zostavená zo skúsených muzikantov\, ktorí sa spojili s jediným cieľom – verne oživiť hudbu legendárnej kapely Smokie a jej ikonického frontmana Chrisa Normana.Lídrom „Smokie the best tribue band“ je Marcel Szoták prezývaný „Norman“. V roku 2023 sa Marcel na koncerte Chisa Normana v Košickom amfiteátri\, osobne stretol so svojim idolom a majú aj spoločné foto. \n\n\n\n\n\n\nNa čo sa môžete tešiť?Nostalgická cesta časom – Vráťte sa do zlatej éry 70. a 80. rokov a nechajte sa uniesť nezabudnuteľnými melódiami. \n\n\n\nAutentický hlas a energia – Marcel Szoták dokáže verne napodobniť hlas Chrisa Normana a spolu s kapelou vytvorí dokonalú ilúziu originálu.Živá a dynamická show – Nenechajte si ujsť strhujúce gitarové sóla\, emóciami nabité balady a hity\, pri ktorých nebudete môcť ostať sedieť. Repertoár tvorí 21 najznámejších hitov prezentovaných na samostatnom koncerte v trvaní cca 1\,5 hodiny. \n\n\n\nZaznejú legendárne hity:Living Next Door to Alice\, Midnight Lady\, Lay Back in the Arms of Someone\, Don’t Play Your Rock ‚N‘ Roll to Me\, Gypsy Queen\, Stumblin‘ In. \n\n\n\nNezmeškajte tento jedinečný hudobný večer – zabezpečte si vopred lístky a zažime to spolu naživo!Tešíme sa na vás!
URL:https://www.robotnickydom.sk/podujatia/smokie-the-best-tribute-band/
LOCATION:Robotnícky dom\, Robotnícka 3\, Banská Bystrica\, 97401\, Slovenská republika
ATTACH;FMTTYPE=image/jpeg:https://www.robotnickydom.sk/wp-content/uploads/2025/06/600x600-smoky-2025.jpg
END:VEVENT
END:VCALENDAR