BEGIN:VCALENDAR
VERSION:2.0
PRODID:-//Robotnícky Dom - ECPv6.0.13.1//NONSGML v1.0//EN
CALSCALE:GREGORIAN
METHOD:PUBLISH
X-WR-CALNAME:Robotnícky Dom
X-ORIGINAL-URL:https://www.robotnickydom.sk
X-WR-CALDESC:Events for Robotnícky Dom
REFRESH-INTERVAL;VALUE=DURATION:PT1H
X-Robots-Tag:noindex
X-PUBLISHED-TTL:PT1H
BEGIN:VTIMEZONE
TZID:Europe/Bratislava
BEGIN:DAYLIGHT
TZOFFSETFROM:+0100
TZOFFSETTO:+0200
TZNAME:CEST
DTSTART:20250330T010000
END:DAYLIGHT
BEGIN:STANDARD
TZOFFSETFROM:+0200
TZOFFSETTO:+0100
TZNAME:CET
DTSTART:20251026T010000
END:STANDARD
END:VTIMEZONE
BEGIN:VEVENT
DTSTART;TZID=Europe/Bratislava:20250917T190000
DTEND;TZID=Europe/Bratislava:20250917T210000
DTSTAMP:20260426T042008
CREATED:20250825T094542Z
LAST-MODIFIED:20250825T135011Z
UID:3075-1758135600-1758142800@www.robotnickydom.sk
SUMMARY:KAREL PLÍHAL - recitál
DESCRIPTION:Karel Plihal\, je nielen pesničkárom\, ale aj básnikom s vycibreným zmyslom pre humor a iróniu\, zároveň muzikantom s citom pre nezabudnuteľnú melódiu a vypointovanú harmóniu. Karel Plíhal sa stal synonymom českého folkového pesničkárstva už dávno. Na scéne sa pohybuje už štyri dekády. Prvé sólové vystúpenie mal v roku 1983. Medzi rokmi 1985 až 1993 spolupracoval s Emilom Pospíšilom a v rokoch 1995 – 1999 ho sprevádzal Petr Freund. \n\n\n\nStal sa štvornásobným držiteľom ceny súťažného hudobného festivalu Porta.Na svoje konto si pripísal aj autorstvo viacerých scénických kompozícií pre divadlá i film.Album Vzduchoprázdniny bol ocenený hudobnou cenou Anděl. Obraz jeho aktuálnej podoby ponúka album Alba a bonusy z roku 2018. Ani zdravotné komplikácie mu však chuť ďalej tvoriť a koncertovať nezobrali. Na koncertoch ho preto sprevádza gitarista Petr Fiala\, s ktorým si rozumie nielen ľudsky\, ale hlavne hudobne. Sám Plíhal svoje piesne obohatil o hru na iný strunový nástroj – mandolu. Je naladená o kvintu nižšie a výborne sa dopĺňa s gitarou. Karel Plíhal neustále pracuje na nových piesňach a tie spolu so svojimi najlepšími prinesie aj na Slovensko.​
URL:https://www.robotnickydom.sk/podujatia/karel-plihal-recital/
LOCATION:Robotnícky dom\, Robotnícka 3\, Banská Bystrica\, 97401\, Slovenská republika
ATTACH;FMTTYPE=image/png:https://www.robotnickydom.sk/wp-content/uploads/2025/08/karel-Plihal-600x600px.png
END:VEVENT
END:VCALENDAR